BEGIN:VCALENDAR
VERSION:2.0
PRODID:-//Weisbach - ECPv6.15.20//NONSGML v1.0//EN
CALSCALE:GREGORIAN
METHOD:PUBLISH
X-ORIGINAL-URL:https://www.weisbach.info
X-WR-CALDESC:Veranstaltungen für Weisbach
REFRESH-INTERVAL;VALUE=DURATION:PT1H
X-Robots-Tag:noindex
X-PUBLISHED-TTL:PT1H
BEGIN:VTIMEZONE
TZID:Europe/Berlin
BEGIN:DAYLIGHT
TZOFFSETFROM:+0100
TZOFFSETTO:+0200
TZNAME:CEST
DTSTART:20230326T010000
END:DAYLIGHT
BEGIN:STANDARD
TZOFFSETFROM:+0200
TZOFFSETTO:+0100
TZNAME:CET
DTSTART:20231029T010000
END:STANDARD
BEGIN:DAYLIGHT
TZOFFSETFROM:+0100
TZOFFSETTO:+0200
TZNAME:CEST
DTSTART:20240331T010000
END:DAYLIGHT
BEGIN:STANDARD
TZOFFSETFROM:+0200
TZOFFSETTO:+0100
TZNAME:CET
DTSTART:20241027T010000
END:STANDARD
BEGIN:DAYLIGHT
TZOFFSETFROM:+0100
TZOFFSETTO:+0200
TZNAME:CEST
DTSTART:20250330T010000
END:DAYLIGHT
BEGIN:STANDARD
TZOFFSETFROM:+0200
TZOFFSETTO:+0100
TZNAME:CET
DTSTART:20251026T010000
END:STANDARD
END:VTIMEZONE
BEGIN:VEVENT
DTSTART;TZID=Europe/Berlin:20241102T120000
DTEND;TZID=Europe/Berlin:20241102T210000
DTSTAMP:20260419T214028
CREATED:20240918T144432Z
LAST-MODIFIED:20241010T192950Z
UID:10103-1730548800-1730581200@www.weisbach.info
SUMMARY:Schälrippchenessen des SCW im Bürgerhaus Weisbach
DESCRIPTION:
URL:https://www.weisbach.info/event/schaelrippchenessen-des-scw-im-buergerhaus-weisbach
LOCATION:Bürgerhaus Weisbach\, Mosbacher Strasse 20\, Waldbrunn\, 69429\, Deutschland
END:VEVENT
BEGIN:VEVENT
DTSTART;TZID=Europe/Berlin:20241103T143000
DTEND;TZID=Europe/Berlin:20241103T163000
DTSTAMP:20260419T214028
CREATED:20241021T183904Z
LAST-MODIFIED:20241021T183904Z
UID:10181-1730644200-1730651400@www.weisbach.info
SUMMARY:Heimspiel des SCW gegen SV Neunkirchen 2
DESCRIPTION:
URL:https://www.weisbach.info/event/heimspiel-des-scw-gegen-sv-neunkirchen-2
LOCATION:Sportheim Weisbach\, Robener Weg 1\, Waldbrunn\, 69429\, Deutschland
END:VEVENT
BEGIN:VEVENT
DTSTART;TZID=Europe/Berlin:20241109T090000
DTEND;TZID=Europe/Berlin:20241109T120000
DTSTAMP:20260419T214028
CREATED:20240913T120944Z
LAST-MODIFIED:20240928T134756Z
UID:10079-1731142800-1731153600@www.weisbach.info
SUMMARY:Frauenfrühstück
DESCRIPTION:
URL:https://www.weisbach.info/event/frauenfruehstueck-2
LOCATION:Bürgerhaus Weisbach\, Mosbacher Strasse 20\, Waldbrunn\, 69429\, Deutschland
END:VEVENT
BEGIN:VEVENT
DTSTART;TZID=Europe/Berlin:20241109T120000
DTEND;TZID=Europe/Berlin:20241109T170000
DTSTAMP:20260419T214028
CREATED:20241103T190106Z
LAST-MODIFIED:20241103T190148Z
UID:10202-1731153600-1731171600@www.weisbach.info
SUMMARY:Haxenessen im Schützenhaus
DESCRIPTION:
URL:https://www.weisbach.info/event/haxenessen-im-schuetzenhaus
LOCATION:Schützenhaus KKS Weisbach\, Dielbacher Weg\, Waldbrunn\, 69429\, Deutschland
END:VEVENT
BEGIN:VEVENT
DTSTART;TZID=Europe/Berlin:20241110T143000
DTEND;TZID=Europe/Berlin:20241110T163000
DTSTAMP:20260419T214028
CREATED:20241021T184048Z
LAST-MODIFIED:20241021T184048Z
UID:10184-1731249000-1731256200@www.weisbach.info
SUMMARY:Auswärtsspiel des SCW in Neckarzimmern
DESCRIPTION:
URL:https://www.weisbach.info/event/auswaertsspiel-des-scw-in-neckarzimmern-5
END:VEVENT
BEGIN:VEVENT
DTSTART;TZID=Europe/Berlin:20241111T180000
DTEND;TZID=Europe/Berlin:20241111T190000
DTSTAMP:20260419T214028
CREATED:20241031T083340Z
LAST-MODIFIED:20241031T083340Z
UID:10198-1731348000-1731351600@www.weisbach.info
SUMMARY:Martinsumzug
DESCRIPTION:
URL:https://www.weisbach.info/event/martinsumzug-5
LOCATION:Bürgerhaus Weisbach\, Mosbacher Strasse 20\, Waldbrunn\, 69429\, Deutschland
END:VEVENT
BEGIN:VEVENT
DTSTART;TZID=Europe/Berlin:20241116T143000
DTEND;TZID=Europe/Berlin:20241116T163000
DTSTAMP:20260419T214028
CREATED:20241021T184226Z
LAST-MODIFIED:20241021T184226Z
UID:10186-1731767400-1731774600@www.weisbach.info
SUMMARY:Heimspiel des SCW gegen SV Wagenschwend
DESCRIPTION:
URL:https://www.weisbach.info/event/heimspiel-des-scw-gegen-sv-wagenschwend
LOCATION:Sportheim Weisbach\, Robener Weg 1\, Waldbrunn\, 69429\, Deutschland
END:VEVENT
BEGIN:VEVENT
DTSTART;TZID=Europe/Berlin:20241116T180000
DTEND;TZID=Europe/Berlin:20241116T183000
DTSTAMP:20260419T214028
CREATED:20241111T110243Z
LAST-MODIFIED:20241111T110243Z
UID:10216-1731780000-1731781800@www.weisbach.info
SUMMARY:Gedenken im Rahmen des Volkstrauertags
DESCRIPTION:
URL:https://www.weisbach.info/event/gedenken-im-rahmen-des-volkstrauertags
LOCATION:Dorfmitte\, Am Dorfbrunnen 2\, Waldbrunn\, 69429\, Deutschland
END:VEVENT
BEGIN:VEVENT
DTSTART;TZID=Europe/Berlin:20241120T183000
DTEND;TZID=Europe/Berlin:20241120T200000
DTSTAMP:20260419T214028
CREATED:20241111T110603Z
LAST-MODIFIED:20241111T110930Z
UID:10218-1732127400-1732132800@www.weisbach.info
SUMMARY:Infoveranstaltung zum geplanten Windpark
DESCRIPTION:weitere Infos unter: \nhttps://wind.iqony.energy/de/mosbach
URL:https://www.weisbach.info/event/infoveranstaltung-zum-geplanten-windpark
LOCATION:Bürgerhaus Weisbach\, Mosbacher Strasse 20\, Waldbrunn\, 69429\, Deutschland
END:VEVENT
BEGIN:VEVENT
DTSTART;TZID=Europe/Berlin:20241122T193000
DTEND;TZID=Europe/Berlin:20241122T200000
DTSTAMP:20260419T214028
CREATED:20241111T105727Z
LAST-MODIFIED:20241111T105727Z
UID:10214-1732303800-1732305600@www.weisbach.info
SUMMARY:Mitgliederversammlung Förderverein SC Weisbach
DESCRIPTION:Mitgliederversammlung des Fördervereins des SC Weisbach 1964 e. V.\nSehr geehrte Mitglieder des Fördervereins des SC Weisbach 1964 e. V.\,\nunsere diesjährige ordentliche Mitgliederversammlung findet am Freitag\, den 22.11.2024 um 19:30 Uhr im Sportheim statt.\nZu folgenden Tagesordnungspunkten wird geladen:\nTop 1: Begrüßung\nTop 2: Geschäftsbericht\nTop 3: Kassenbericht\nTop 4: Bericht der Kassenprüfer\nTop 5: Entlastung der Vorstandschaft\nTop 6: Anträge und Verschiedenes\nAnträge sind bis zum 15.11.2024 beim 1. Vorsitzenden oder\nSchriftführer einzureichen!
URL:https://www.weisbach.info/event/mitgliederversammlung-foerderverein-sc-weisbach
LOCATION:Sportheim Weisbach\, Robener Weg 1\, Waldbrunn\, 69429\, Deutschland
END:VEVENT
BEGIN:VEVENT
DTSTART;TZID=Europe/Berlin:20241122T200000
DTEND;TZID=Europe/Berlin:20241122T220000
DTSTAMP:20260419T214028
CREATED:20241111T105442Z
LAST-MODIFIED:20241111T105442Z
UID:10211-1732305600-1732312800@www.weisbach.info
SUMMARY:Mitgliederversammlung des SC Weisbach
DESCRIPTION:Mitgliederversammlung des SC Weisbach 1964 e.V.\nSehr geehrte Mitglieder des SC Weisbach 1964 e. V.\,\nhiermit laden wir Euch zu unserer diesjährigen ordentlichen Mitgliederversammlung recht herzlich ein.\nDatum: Freitag\, den 22.11.2024\nOrt: Sportheim in Weisbach\nBeginn: 20.00 Uhr\nZu folgenden Tagesordnungspunkten wird geladen:\nTop 1: Begrüßung\nTop 2: Geschäftsbericht\nTop 3: Spielbericht\nTop 4: Jugendbericht\nTop 5: Kassenbericht\nTop 6: Bericht der Kassenprüfer\nTop 7: Entlastung der Vorstandschaft \nTop 8: Neuwahlen der gesamten Vorstandschaft\nTop 9: Anträge und Verschiedenes\nTop 10: Grußworte\nAnträge müssen bis zum 15.11.2024 beim 1. Vorsitzenden einge-\ngangen sein.\nWir bitten um zahlreiches und pünktliches Erscheinen.\nDie Vorstandschaft
URL:https://www.weisbach.info/event/mitgliederversammlung-des-sc-weisbach
LOCATION:Sportheim Weisbach\, Robener Weg 1\, Waldbrunn\, 69429\, Deutschland
END:VEVENT
BEGIN:VEVENT
DTSTART;TZID=Europe/Berlin:20241124T143000
DTEND;TZID=Europe/Berlin:20241124T163000
DTSTAMP:20260419T214028
CREATED:20241021T184424Z
LAST-MODIFIED:20241021T184424Z
UID:10188-1732458600-1732465800@www.weisbach.info
SUMMARY:Heimspiel des SCW gegen SV Obrigheim
DESCRIPTION:
URL:https://www.weisbach.info/event/heimspiel-des-scw-gegen-sv-obrigheim
LOCATION:Sportheim Weisbach\, Robener Weg 1\, Waldbrunn\, 69429\, Deutschland
END:VEVENT
END:VCALENDAR