BEGIN:VCALENDAR
VERSION:2.0
PRODID:-//Weisbach - ECPv6.15.20//NONSGML v1.0//EN
CALSCALE:GREGORIAN
METHOD:PUBLISH
X-ORIGINAL-URL:https://www.weisbach.info
X-WR-CALDESC:Veranstaltungen für Weisbach
REFRESH-INTERVAL;VALUE=DURATION:PT1H
X-Robots-Tag:noindex
X-PUBLISHED-TTL:PT1H
BEGIN:VTIMEZONE
TZID:Europe/Berlin
BEGIN:DAYLIGHT
TZOFFSETFROM:+0100
TZOFFSETTO:+0200
TZNAME:CEST
DTSTART:20230326T010000
END:DAYLIGHT
BEGIN:STANDARD
TZOFFSETFROM:+0200
TZOFFSETTO:+0100
TZNAME:CET
DTSTART:20231029T010000
END:STANDARD
BEGIN:DAYLIGHT
TZOFFSETFROM:+0100
TZOFFSETTO:+0200
TZNAME:CEST
DTSTART:20240331T010000
END:DAYLIGHT
BEGIN:STANDARD
TZOFFSETFROM:+0200
TZOFFSETTO:+0100
TZNAME:CET
DTSTART:20241027T010000
END:STANDARD
BEGIN:DAYLIGHT
TZOFFSETFROM:+0100
TZOFFSETTO:+0200
TZNAME:CEST
DTSTART:20250330T010000
END:DAYLIGHT
BEGIN:STANDARD
TZOFFSETFROM:+0200
TZOFFSETTO:+0100
TZNAME:CET
DTSTART:20251026T010000
END:STANDARD
END:VTIMEZONE
BEGIN:VEVENT
DTSTART;TZID=Europe/Berlin:20241003T150000
DTEND;TZID=Europe/Berlin:20241003T170000
DTSTAMP:20260419T231550
CREATED:20240913T122843Z
LAST-MODIFIED:20240913T122843Z
UID:10083-1727967600-1727974800@www.weisbach.info
SUMMARY:Auswärtsspiel des SCW in Michelbach
DESCRIPTION:
URL:https://www.weisbach.info/event/auswaertsspiel-des-scw-in-michelbach
END:VEVENT
BEGIN:VEVENT
DTSTART;TZID=Europe/Berlin:20241006T150000
DTEND;TZID=Europe/Berlin:20241006T170000
DTSTAMP:20260419T231550
CREATED:20240913T122946Z
LAST-MODIFIED:20240913T122946Z
UID:10085-1728226800-1728234000@www.weisbach.info
SUMMARY:Heimspiel des SCW gegen Binau
DESCRIPTION:
URL:https://www.weisbach.info/event/heimspiel-des-scw-gegen-binau-3
LOCATION:Sportheim Weisbach\, Robener Weg 1\, Waldbrunn\, 69429\, Deutschland
END:VEVENT
BEGIN:VEVENT
DTSTART;TZID=Europe/Berlin:20241013T130000
DTEND;TZID=Europe/Berlin:20241013T150000
DTSTAMP:20260419T231550
CREATED:20240929T122725Z
LAST-MODIFIED:20240929T122725Z
UID:10134-1728824400-1728831600@www.weisbach.info
SUMMARY:Auswärtsspiel des SCW gegen TS Mosbach 2
DESCRIPTION:
URL:https://www.weisbach.info/event/auswaertsspiel-des-scw-gegen-ts-mosbach-2
END:VEVENT
BEGIN:VEVENT
DTSTART;TZID=Europe/Berlin:20241013T130000
DTEND;TZID=Europe/Berlin:20241013T170000
DTSTAMP:20260419T231550
CREATED:20240917T173849Z
LAST-MODIFIED:20240929T123019Z
UID:10100-1728824400-1728838800@www.weisbach.info
SUMMARY:Odenwälder Drachenfest
DESCRIPTION:
URL:https://www.weisbach.info/event/odenwaelder-drachenfest-2
END:VEVENT
BEGIN:VEVENT
DTSTART;TZID=Europe/Berlin:20241018T170000
DTEND;TZID=Europe/Berlin:20241021T233000
DTSTAMP:20260419T231550
CREATED:20241007T171246Z
LAST-MODIFIED:20241007T171345Z
UID:10158-1729270800-1729553400@www.weisbach.info
SUMMARY:Vesperstube "Zum Alten Bullenstall" hat geöffnet
DESCRIPTION:
URL:https://www.weisbach.info/event/vesperstube-zum-alten-bullenstall-hat-geoeffnet-32
LOCATION:Ehemaliger Bullenstall Weisbach\, Mosbacher Strasse 16\, Waldbrunn\, 69429\, Deutschland
END:VEVENT
BEGIN:VEVENT
DTSTART;VALUE=DATE:20241020
DTEND;VALUE=DATE:20241021
DTSTAMP:20260419T231550
CREATED:20240913T121144Z
LAST-MODIFIED:20240918T144708Z
UID:10081-1729382400-1729468799@www.weisbach.info
SUMMARY:Kerwe im Sportheim mit Heimspiel gegen Zwingenberg
DESCRIPTION:
URL:https://www.weisbach.info/event/kerwe-im-sportheim-mit-heimspiel-gegen-zwingenberg
LOCATION:Sportheim Weisbach\, Robener Weg 1\, Waldbrunn\, 69429\, Deutschland
END:VEVENT
BEGIN:VEVENT
DTSTART;TZID=Europe/Berlin:20241027T150000
DTEND;TZID=Europe/Berlin:20241027T170000
DTSTAMP:20260419T231550
CREATED:20241021T183703Z
LAST-MODIFIED:20241021T183703Z
UID:10178-1730041200-1730048400@www.weisbach.info
SUMMARY:Auswärtsspiel des SCW beim VfB Allfeld
DESCRIPTION:
URL:https://www.weisbach.info/event/auswaertsspiel-des-scw-beim-vfb-allfeld
END:VEVENT
END:VCALENDAR