BEGIN:VCALENDAR
VERSION:2.0
PRODID:-//Weisbach - ECPv6.15.20//NONSGML v1.0//EN
CALSCALE:GREGORIAN
METHOD:PUBLISH
X-ORIGINAL-URL:https://www.weisbach.info
X-WR-CALDESC:Veranstaltungen für Weisbach
REFRESH-INTERVAL;VALUE=DURATION:PT1H
X-Robots-Tag:noindex
X-PUBLISHED-TTL:PT1H
BEGIN:VTIMEZONE
TZID:Europe/Berlin
BEGIN:DAYLIGHT
TZOFFSETFROM:+0100
TZOFFSETTO:+0200
TZNAME:CEST
DTSTART:20230326T010000
END:DAYLIGHT
BEGIN:STANDARD
TZOFFSETFROM:+0200
TZOFFSETTO:+0100
TZNAME:CET
DTSTART:20231029T010000
END:STANDARD
BEGIN:DAYLIGHT
TZOFFSETFROM:+0100
TZOFFSETTO:+0200
TZNAME:CEST
DTSTART:20240331T010000
END:DAYLIGHT
BEGIN:STANDARD
TZOFFSETFROM:+0200
TZOFFSETTO:+0100
TZNAME:CET
DTSTART:20241027T010000
END:STANDARD
BEGIN:DAYLIGHT
TZOFFSETFROM:+0100
TZOFFSETTO:+0200
TZNAME:CEST
DTSTART:20250330T010000
END:DAYLIGHT
BEGIN:STANDARD
TZOFFSETFROM:+0200
TZOFFSETTO:+0100
TZNAME:CET
DTSTART:20251026T010000
END:STANDARD
END:VTIMEZONE
BEGIN:VEVENT
DTSTART;VALUE=DATE:20240720
DTEND;VALUE=DATE:20240723
DTSTAMP:20260420T033813
CREATED:20240516T170027Z
LAST-MODIFIED:20240627T155550Z
UID:10003-1721433600-1721692799@www.weisbach.info
SUMMARY:Brunnenfest 2024
DESCRIPTION:
URL:https://www.weisbach.info/event/brunnenfest-3
LOCATION:Dorfmitte\, Am Dorfbrunnen 2\, Waldbrunn\, 69429\, Deutschland
END:VEVENT
BEGIN:VEVENT
DTSTART;TZID=Europe/Berlin:20240728T170000
DTEND;TZID=Europe/Berlin:20240728T190000
DTSTAMP:20260420T033813
CREATED:20240723T184302Z
LAST-MODIFIED:20240723T184302Z
UID:10030-1722186000-1722193200@www.weisbach.info
SUMMARY:Kreispokalspiel des SCW gegen FC Lohrbach
DESCRIPTION:
URL:https://www.weisbach.info/event/kreispokalspiel-des-scw-gegen-fc-lohrbach
LOCATION:Sportheim Weisbach\, Robener Weg 1\, Waldbrunn\, 69429\, Deutschland
END:VEVENT
END:VCALENDAR