BEGIN:VCALENDAR
VERSION:2.0
PRODID:-//Weisbach - ECPv6.15.20//NONSGML v1.0//EN
CALSCALE:GREGORIAN
METHOD:PUBLISH
X-ORIGINAL-URL:https://www.weisbach.info
X-WR-CALDESC:Veranstaltungen für Weisbach
REFRESH-INTERVAL;VALUE=DURATION:PT1H
X-Robots-Tag:noindex
X-PUBLISHED-TTL:PT1H
BEGIN:VTIMEZONE
TZID:Europe/Berlin
BEGIN:DAYLIGHT
TZOFFSETFROM:+0100
TZOFFSETTO:+0200
TZNAME:CEST
DTSTART:20230326T010000
END:DAYLIGHT
BEGIN:STANDARD
TZOFFSETFROM:+0200
TZOFFSETTO:+0100
TZNAME:CET
DTSTART:20231029T010000
END:STANDARD
BEGIN:DAYLIGHT
TZOFFSETFROM:+0100
TZOFFSETTO:+0200
TZNAME:CEST
DTSTART:20240331T010000
END:DAYLIGHT
BEGIN:STANDARD
TZOFFSETFROM:+0200
TZOFFSETTO:+0100
TZNAME:CET
DTSTART:20241027T010000
END:STANDARD
BEGIN:DAYLIGHT
TZOFFSETFROM:+0100
TZOFFSETTO:+0200
TZNAME:CEST
DTSTART:20250330T010000
END:DAYLIGHT
BEGIN:STANDARD
TZOFFSETFROM:+0200
TZOFFSETTO:+0100
TZNAME:CET
DTSTART:20251026T010000
END:STANDARD
END:VTIMEZONE
BEGIN:VEVENT
DTSTART;TZID=Europe/Berlin:20240120T110000
DTEND;TZID=Europe/Berlin:20240120T140000
DTSTAMP:20260420T130923
CREATED:20231223T090829Z
LAST-MODIFIED:20240108T160042Z
UID:9812-1705748400-1705759200@www.weisbach.info
SUMMARY:Einsammeln der Christbäume vom SC Weisbach
DESCRIPTION:Der SC Weisbach sammelt die ausgedienten Christbäume am Samstag\, 20. Januar 2024 ein. \nBitte legen Sie Christbäume gut sichtbar bereit. \nEine Box für freiweillige Spenden ist mit an Bord. \nEuer SCW-Team
URL:https://www.weisbach.info/event/einsammeln-der-christbaeume-vom-sc-weisbach
END:VEVENT
BEGIN:VEVENT
DTSTART;TZID=Europe/Berlin:20240126T170000
DTEND;TZID=Europe/Berlin:20240129T230000
DTSTAMP:20260420T130924
CREATED:20240107T174544Z
LAST-MODIFIED:20240107T174544Z
UID:9822-1706288400-1706569200@www.weisbach.info
SUMMARY:Vesperstube "Zum Alten Bullenstall" hat geöffnet
DESCRIPTION:
URL:https://www.weisbach.info/event/vesperstube-zum-alten-bullenstall-hat-geoeffnet-28
LOCATION:Ehemaliger Bullenstall Weisbach\, Mosbacher Strasse 16\, Waldbrunn\, 69429\, Deutschland
END:VEVENT
BEGIN:VEVENT
DTSTART;TZID=Europe/Berlin:20240127T113000
DTEND;TZID=Europe/Berlin:20240127T170000
DTSTAMP:20260420T130924
CREATED:20231103T125927Z
LAST-MODIFIED:20231218T192216Z
UID:9778-1706355000-1706374800@www.weisbach.info
SUMMARY:Schlachtplattenessen SC Weisbach im Bürgerhaus
DESCRIPTION:
URL:https://www.weisbach.info/event/schlachtplattenessen-sc-weisbach-im-buergerhaus
LOCATION:Bürgerhaus Weisbach\, Mosbacher Strasse 20\, Waldbrunn\, 69429\, Deutschland
END:VEVENT
END:VCALENDAR