BEGIN:VCALENDAR
VERSION:2.0
PRODID:-//Weisbach - ECPv6.15.20//NONSGML v1.0//EN
CALSCALE:GREGORIAN
METHOD:PUBLISH
X-ORIGINAL-URL:https://www.weisbach.info
X-WR-CALDESC:Veranstaltungen für Weisbach
REFRESH-INTERVAL;VALUE=DURATION:PT1H
X-Robots-Tag:noindex
X-PUBLISHED-TTL:PT1H
BEGIN:VTIMEZONE
TZID:Europe/Berlin
BEGIN:DAYLIGHT
TZOFFSETFROM:+0100
TZOFFSETTO:+0200
TZNAME:CEST
DTSTART:20220327T010000
END:DAYLIGHT
BEGIN:STANDARD
TZOFFSETFROM:+0200
TZOFFSETTO:+0100
TZNAME:CET
DTSTART:20221030T010000
END:STANDARD
BEGIN:DAYLIGHT
TZOFFSETFROM:+0100
TZOFFSETTO:+0200
TZNAME:CEST
DTSTART:20230326T010000
END:DAYLIGHT
BEGIN:STANDARD
TZOFFSETFROM:+0200
TZOFFSETTO:+0100
TZNAME:CET
DTSTART:20231029T010000
END:STANDARD
BEGIN:DAYLIGHT
TZOFFSETFROM:+0100
TZOFFSETTO:+0200
TZNAME:CEST
DTSTART:20240331T010000
END:DAYLIGHT
BEGIN:STANDARD
TZOFFSETFROM:+0200
TZOFFSETTO:+0100
TZNAME:CET
DTSTART:20241027T010000
END:STANDARD
END:VTIMEZONE
BEGIN:VEVENT
DTSTART;TZID=Europe/Berlin:20231104T113000
DTEND;TZID=Europe/Berlin:20231104T170000
DTSTAMP:20260420T161634
CREATED:20230902T145142Z
LAST-MODIFIED:20230902T145142Z
UID:9667-1699097400-1699117200@www.weisbach.info
SUMMARY:Haxenessen beim KKS Weisbach
DESCRIPTION:
URL:https://www.weisbach.info/event/haxenessen-beim-kks-weisbach
LOCATION:Schützenhaus KKS Weisbach\, Dielbacher Weg\, Waldbrunn\, 69429\, Deutschland
END:VEVENT
BEGIN:VEVENT
DTSTART;TZID=Europe/Berlin:20231105T143000
DTEND;TZID=Europe/Berlin:20231105T163000
DTSTAMP:20260420T161634
CREATED:20231009T184340Z
LAST-MODIFIED:20231105T125842Z
UID:9734-1699194600-1699201800@www.weisbach.info
SUMMARY:Update!! Heimspiel des SCW gegen Neckarzimmern fällt aus
DESCRIPTION:
URL:https://www.weisbach.info/event/heimspiel-des-scw-gegen-neckarzimmern-3
LOCATION:Sportheim Weisbach\, Robener Weg 1\, Waldbrunn\, 69429\, Deutschland
END:VEVENT
BEGIN:VEVENT
DTSTART;TZID=Europe/Berlin:20231111T180000
DTEND;TZID=Europe/Berlin:20231111T190000
DTSTAMP:20260420T161634
CREATED:20231027T070504Z
LAST-MODIFIED:20231027T070504Z
UID:9765-1699725600-1699729200@www.weisbach.info
SUMMARY:Martinsumzug
DESCRIPTION:
URL:https://www.weisbach.info/event/martinsumzug-4
LOCATION:Bürgerhaus Weisbach\, Mosbacher Strasse 20\, Waldbrunn\, 69429\, Deutschland
END:VEVENT
BEGIN:VEVENT
DTSTART;TZID=Europe/Berlin:20231112T113000
DTEND;TZID=Europe/Berlin:20231112T133000
DTSTAMP:20260420T161634
CREATED:20231009T184619Z
LAST-MODIFIED:20231030T060525Z
UID:9736-1699788600-1699795800@www.weisbach.info
SUMMARY:Auswärtsspiel des SCW gegen FSV Waldbrunn 2 in Waldkatzenbach
DESCRIPTION:
URL:https://www.weisbach.info/event/auswaertsspiel-des-scw-beim-fsv-waldbrunn-2
END:VEVENT
BEGIN:VEVENT
DTSTART;TZID=Europe/Berlin:20231117T190000
DTEND;TZID=Europe/Berlin:20231117T193000
DTSTAMP:20260420T161634
CREATED:20231018T163520Z
LAST-MODIFIED:20231025T191326Z
UID:9751-1700247600-1700249400@www.weisbach.info
SUMMARY:Gerneralversammlung SC Weisbach Förderverein
DESCRIPTION:
URL:https://www.weisbach.info/event/gerneralversammlung-sc-weisbach-foerderverein
LOCATION:Sportheim Weisbach\, Robener Weg 1\, Waldbrunn\, 69429\, Deutschland
END:VEVENT
BEGIN:VEVENT
DTSTART;TZID=Europe/Berlin:20231117T200000
DTEND;TZID=Europe/Berlin:20231117T220000
DTSTAMP:20260420T161634
CREATED:20231018T163653Z
LAST-MODIFIED:20231018T163653Z
UID:9753-1700251200-1700258400@www.weisbach.info
SUMMARY:Gerneralversammlung SC Weisbach
DESCRIPTION:
URL:https://www.weisbach.info/event/gerneralversammlung-sc-weisbach
LOCATION:Sportheim Weisbach\, Robener Weg 1\, Waldbrunn\, 69429\, Deutschland
END:VEVENT
BEGIN:VEVENT
DTSTART;TZID=Europe/Berlin:20231118T180000
DTEND;TZID=Europe/Berlin:20231118T183000
DTSTAMP:20260420T161634
CREATED:20231027T070649Z
LAST-MODIFIED:20231027T070846Z
UID:9767-1700330400-1700332200@www.weisbach.info
SUMMARY:Veranstaltung zum Volkstrauertag am Kriegerdenkmal
DESCRIPTION:
URL:https://www.weisbach.info/event/veranstaltung-zum-volkstrauertag
LOCATION:Dorfmitte\, Am Dorfbrunnen 2\, Waldbrunn\, 69429\, Deutschland
END:VEVENT
BEGIN:VEVENT
DTSTART;TZID=Europe/Berlin:20231119T143000
DTEND;TZID=Europe/Berlin:20231119T163000
DTSTAMP:20260420T161634
CREATED:20230803T102247Z
LAST-MODIFIED:20231118T224346Z
UID:9631-1700404200-1700411400@www.weisbach.info
SUMMARY:Spiel des SCW gegen TSV Sulzbach ist abgesetzt
DESCRIPTION:
URL:https://www.weisbach.info/event/spiel-des-scw-gegen-tsv-sulzbach-in-schollbrunn
LOCATION:Sportheim Weisbach\, Robener Weg 1\, Waldbrunn\, 69429\, Deutschland
END:VEVENT
BEGIN:VEVENT
DTSTART;TZID=Europe/Berlin:20231126T143000
DTEND;TZID=Europe/Berlin:20231126T163000
DTSTAMP:20260420T161634
CREATED:20231030T110916Z
LAST-MODIFIED:20231126T090525Z
UID:9773-1701009000-1701016200@www.weisbach.info
SUMMARY:Update!! 1. Rückrundenspiel (Heimspiel) des SC Weisbach gegen Obrigheim ist abgesagt
DESCRIPTION:
URL:https://www.weisbach.info/event/1-rueckrundenspiel-heimspiel-des-sc-weisbach-gegen-obrigheim
LOCATION:Sportheim Weisbach\, Robener Weg 1\, Waldbrunn\, 69429\, Deutschland
END:VEVENT
END:VCALENDAR