BEGIN:VCALENDAR
VERSION:2.0
PRODID:-//Weisbach - ECPv6.15.20//NONSGML v1.0//EN
CALSCALE:GREGORIAN
METHOD:PUBLISH
X-ORIGINAL-URL:https://www.weisbach.info
X-WR-CALDESC:Veranstaltungen für Weisbach
REFRESH-INTERVAL;VALUE=DURATION:PT1H
X-Robots-Tag:noindex
X-PUBLISHED-TTL:PT1H
BEGIN:VTIMEZONE
TZID:Europe/Berlin
BEGIN:DAYLIGHT
TZOFFSETFROM:+0100
TZOFFSETTO:+0200
TZNAME:CEST
DTSTART:20220327T010000
END:DAYLIGHT
BEGIN:STANDARD
TZOFFSETFROM:+0200
TZOFFSETTO:+0100
TZNAME:CET
DTSTART:20221030T010000
END:STANDARD
BEGIN:DAYLIGHT
TZOFFSETFROM:+0100
TZOFFSETTO:+0200
TZNAME:CEST
DTSTART:20230326T010000
END:DAYLIGHT
BEGIN:STANDARD
TZOFFSETFROM:+0200
TZOFFSETTO:+0100
TZNAME:CET
DTSTART:20231029T010000
END:STANDARD
BEGIN:DAYLIGHT
TZOFFSETFROM:+0100
TZOFFSETTO:+0200
TZNAME:CEST
DTSTART:20240331T010000
END:DAYLIGHT
BEGIN:STANDARD
TZOFFSETFROM:+0200
TZOFFSETTO:+0100
TZNAME:CET
DTSTART:20241027T010000
END:STANDARD
END:VTIMEZONE
BEGIN:VEVENT
DTSTART;TZID=Europe/Berlin:20230501T120000
DTEND;TZID=Europe/Berlin:20230501T200000
DTSTAMP:20260421T003941
CREATED:20230405T185645Z
LAST-MODIFIED:20230406T133443Z
UID:9487-1682942400-1682971200@www.weisbach.info
SUMMARY:Maifest beim SC Weisbach
DESCRIPTION:
URL:https://www.weisbach.info/event/maifest-beim-sc-weisbach-2
LOCATION:Sportheim Weisbach\, Robener Weg 1\, Waldbrunn\, 69429\, Deutschland
END:VEVENT
BEGIN:VEVENT
DTSTART;TZID=Europe/Berlin:20230507T150000
DTEND;TZID=Europe/Berlin:20230507T170000
DTSTAMP:20260421T003941
CREATED:20230420T185939Z
LAST-MODIFIED:20230420T185939Z
UID:9526-1683471600-1683478800@www.weisbach.info
SUMMARY:Heimspiel des SC Weisbach gegen FC Lohrbach
DESCRIPTION:
URL:https://www.weisbach.info/event/heimspiel-des-sc-weisbach-gegen-fc-lohrbach
LOCATION:Sportheim Weisbach\, Robener Weg 1\, Waldbrunn\, 69429\, Deutschland
END:VEVENT
BEGIN:VEVENT
DTSTART;TZID=Europe/Berlin:20230514T150000
DTEND;TZID=Europe/Berlin:20230514T170000
DTSTAMP:20260421T003941
CREATED:20230420T190109Z
LAST-MODIFIED:20230420T190109Z
UID:9528-1684076400-1684083600@www.weisbach.info
SUMMARY:Auswärtsspiel des SC Weisbach beim SV Schefflenz
DESCRIPTION:
URL:https://www.weisbach.info/event/auswaertsspiel-des-sc-weisbach-beim-sv-schefflenz
END:VEVENT
BEGIN:VEVENT
DTSTART;TZID=Europe/Berlin:20230518T100000
DTEND;TZID=Europe/Berlin:20230518T180000
DTSTAMP:20260421T003941
CREATED:20230414T100228Z
LAST-MODIFIED:20230414T100229Z
UID:9501-1684404000-1684432800@www.weisbach.info
SUMMARY:Vatertagsgrillfest beim KKS Weisbach
DESCRIPTION:
URL:https://www.weisbach.info/event/vatertagsgrillfest-beim-kks-weisbach-3
LOCATION:Schützenhaus KKS Weisbach\, Dielbacher Weg\, Waldbrunn\, 69429\, Deutschland
END:VEVENT
BEGIN:VEVENT
DTSTART;TZID=Europe/Berlin:20230520T173000
DTEND;TZID=Europe/Berlin:20230520T193000
DTSTAMP:20260421T003941
CREATED:20230517T135449Z
LAST-MODIFIED:20230517T135449Z
UID:9553-1684603800-1684611000@www.weisbach.info
SUMMARY:A Jugend Meiterschafts Endspiel in Binau
DESCRIPTION:Am Samstag den 20.05. findet das letzte Meisterschaftsspiel in der Landesliga der A- Jugend der JSG Neckar- Odenwald gegen die JSG Mudau statt. Beide Mannschaften stehen punktgleich an der Tabellenspitze. Anschauen lohnt sich also!!
URL:https://www.weisbach.info/event/a-jugend-meiterschafts-endspiel-in-binau
END:VEVENT
BEGIN:VEVENT
DTSTART;TZID=Europe/Berlin:20230521T144500
DTEND;TZID=Europe/Berlin:20230521T164500
DTSTAMP:20260421T003941
CREATED:20230502T142557Z
LAST-MODIFIED:20230517T200836Z
UID:9540-1684680300-1684687500@www.weisbach.info
SUMMARY:SV Schollbrunn vs SV Schefflenz II in Weisbach
DESCRIPTION:Der SV Schollbrunn bestreitet sein Heimspiel an diesem Wochenende auf dem Sportgelände in Weisbach.
URL:https://www.weisbach.info/event/sv-schollbrunn-vs-sv-schefflenz-ii
LOCATION:Sportheim Weisbach\, Robener Weg 1\, Waldbrunn\, 69429\, Deutschland
END:VEVENT
BEGIN:VEVENT
DTSTART;TZID=Europe/Berlin:20230521T170000
DTEND;TZID=Europe/Berlin:20230521T190000
DTSTAMP:20260421T003941
CREATED:20230420T190408Z
LAST-MODIFIED:20230420T190408Z
UID:9531-1684688400-1684695600@www.weisbach.info
SUMMARY:Heimspiel des SC Weisbach gegen FV Elztal
DESCRIPTION:
URL:https://www.weisbach.info/event/heimspiel-des-sc-weisbach-gegen-fv-elztal
LOCATION:Sportheim Weisbach\, Robener Weg 1\, Waldbrunn\, 69429\, Deutschland
END:VEVENT
BEGIN:VEVENT
DTSTART;TZID=Europe/Berlin:20230527T190000
DTEND;TZID=Europe/Berlin:20230527T235900
DTSTAMP:20260421T003941
CREATED:20230509T172603Z
LAST-MODIFIED:20230517T211104Z
UID:9545-1685214000-1685231940@www.weisbach.info
SUMMARY:Rundenabschluss beim SC Weisbach
DESCRIPTION:Hallo zusammen\,\ndie diesjährige Rundenabschlussfeier des SCW findet am Samstag\, den 27.Mai 2023 ab 19.00 Uhr im Sportheim statt. Hierzu laden wir alle Spieler der Seniorenmannschaft und AH mit Anhang sowie alle Mitglieder\, Freunde und Gönner des SCW recht herzlich ein.\nDie Vorstandschaft des SCW
URL:https://www.weisbach.info/event/rundenabschluss-beim-sc-weisbach-3
LOCATION:Sportheim Weisbach\, Robener Weg 1\, Waldbrunn\, 69429\, Deutschland
END:VEVENT
END:VCALENDAR