BEGIN:VCALENDAR
VERSION:2.0
PRODID:-//Weisbach - ECPv6.15.20//NONSGML v1.0//EN
CALSCALE:GREGORIAN
METHOD:PUBLISH
X-WR-CALNAME:Weisbach
X-ORIGINAL-URL:https://www.weisbach.info
X-WR-CALDESC:Veranstaltungen für Weisbach
REFRESH-INTERVAL;VALUE=DURATION:PT1H
X-Robots-Tag:noindex
X-PUBLISHED-TTL:PT1H
BEGIN:VTIMEZONE
TZID:Europe/Berlin
BEGIN:DAYLIGHT
TZOFFSETFROM:+0100
TZOFFSETTO:+0200
TZNAME:CEST
DTSTART:20220327T010000
END:DAYLIGHT
BEGIN:STANDARD
TZOFFSETFROM:+0200
TZOFFSETTO:+0100
TZNAME:CET
DTSTART:20221030T010000
END:STANDARD
BEGIN:DAYLIGHT
TZOFFSETFROM:+0100
TZOFFSETTO:+0200
TZNAME:CEST
DTSTART:20230326T010000
END:DAYLIGHT
BEGIN:STANDARD
TZOFFSETFROM:+0200
TZOFFSETTO:+0100
TZNAME:CET
DTSTART:20231029T010000
END:STANDARD
BEGIN:DAYLIGHT
TZOFFSETFROM:+0100
TZOFFSETTO:+0200
TZNAME:CEST
DTSTART:20240331T010000
END:DAYLIGHT
BEGIN:STANDARD
TZOFFSETFROM:+0200
TZOFFSETTO:+0100
TZNAME:CET
DTSTART:20241027T010000
END:STANDARD
END:VTIMEZONE
BEGIN:VEVENT
DTSTART;TZID=Europe/Berlin:20230305T150000
DTEND;TZID=Europe/Berlin:20230305T170000
DTSTAMP:20260421T032641
CREATED:20230204T173430Z
LAST-MODIFIED:20230204T173430Z
UID:9411-1678028400-1678035600@www.weisbach.info
SUMMARY:Auswärtsspiel des SCW in Strümpelbrunn
DESCRIPTION:
URL:https://www.weisbach.info/event/auswaertsspiel-des-scw-in-struempelbrunn
END:VEVENT
BEGIN:VEVENT
DTSTART;TZID=Europe/Berlin:20230310T200000
DTEND;TZID=Europe/Berlin:20230310T220000
DTSTAMP:20260421T032641
CREATED:20230204T173215Z
LAST-MODIFIED:20230302T103447Z
UID:9409-1678478400-1678485600@www.weisbach.info
SUMMARY:Jahreshauptversammlung beim KKS Weisbach
DESCRIPTION:Einladung zur JahreshauptversammlungAm Freitag\, 10.3.2023\, um 20.00 Uhr\, findet im SchützenhausWeisbach unsere diesjährige Jahreshauptversammlung statt.TagesordnungTop 1 BegrüßungTop 2 TotenehrungTop 3 Tätigkeitsberichte– Vorsitzender– Sportleiter– JugendleiterTop 4 KassenberichtTop 5 Bericht der KassenprüferTop 6 Entlastung der VorstandschaftTop 7 NeuwahlenTop 8 EhrungenTop 9 AnträgeTop 10 Grußworte/Verschiedenes
URL:https://www.weisbach.info/event/generalversammlung-beim-kks-weisbach
LOCATION:Schützenhaus KKS Weisbach\, Dielbacher Weg\, Waldbrunn\, 69429\, Deutschland
END:VEVENT
BEGIN:VEVENT
DTSTART;TZID=Europe/Berlin:20230312T150000
DTEND;TZID=Europe/Berlin:20230312T170000
DTSTAMP:20260421T032642
CREATED:20230204T173619Z
LAST-MODIFIED:20230204T173619Z
UID:9413-1678633200-1678640400@www.weisbach.info
SUMMARY:Heimspiel des SCW gegen FV Mosbach 2
DESCRIPTION:
URL:https://www.weisbach.info/event/heimspiel-des-scw-gegen-fv-mosbach-2-2
LOCATION:Sportheim Weisbach\, Robener Weg 1\, Waldbrunn\, 69429\, Deutschland
END:VEVENT
BEGIN:VEVENT
DTSTART;TZID=Europe/Berlin:20230314T190000
DTEND;TZID=Europe/Berlin:20230314T203000
DTSTAMP:20260421T032642
CREATED:20230302T100200Z
LAST-MODIFIED:20230309T083818Z
UID:9432-1678820400-1678825800@www.weisbach.info
SUMMARY:Öffentliche Ortschaftsratsitzung
DESCRIPTION:Am Dienstag\, den 14. März 2023 findet um 19 Uhr eine öffentli-che Sitzung des Ortschaftsrats Weisbach im Bürgerhaus statt.Folgende Tagesordnungspunkte sind vorgesehen:1. Verabschiedung von Niklas Teimel aus dem Ortschaftsrat2. Information zum Stand Sanierung Dorfplatz – Trafostation3. Information zur Beschlussfassung über den Abschluss derArchitekturleistungen für den Anbau einer Feuerwehrfahr-zeughalle und der Sanierung des Bürgerhauses4. Beratung und Beschlussfassung Planung von Freiflächen-photovoltaik5. VerschiedenesHeinz-Dieter Ihrig\, Ortsvorsteher
URL:https://www.weisbach.info/event/oeffentliche-ortschaftsratsitzung-3
LOCATION:Bürgerhaus Weisbach\, Mosbacher Strasse 20\, Waldbrunn\, 69429\, Deutschland
END:VEVENT
BEGIN:VEVENT
DTSTART;TZID=Europe/Berlin:20230318T160000
DTEND;TZID=Europe/Berlin:20230318T174500
DTSTAMP:20260421T032642
CREATED:20230204T173751Z
LAST-MODIFIED:20230310T122337Z
UID:9415-1679155200-1679161500@www.weisbach.info
SUMMARY:Auswärtsspiel des SC Weisbach in Billigheim
DESCRIPTION:
URL:https://www.weisbach.info/event/auswaertsspiel-des-sc-weisbach-in-billigheim
END:VEVENT
BEGIN:VEVENT
DTSTART;TZID=Europe/Berlin:20230324T190000
DTEND;TZID=Europe/Berlin:20230324T210000
DTSTAMP:20260421T032642
CREATED:20230212T124057Z
LAST-MODIFIED:20230212T124057Z
UID:9424-1679684400-1679691600@www.weisbach.info
SUMMARY:Jahreshauptversammlung der FFW Weisbach
DESCRIPTION:
URL:https://www.weisbach.info/event/jahreshauptversammlung-der-ffw-weisbach
LOCATION:Bürgerhaus Weisbach\, Mosbacher Strasse 20\, Waldbrunn\, 69429\, Deutschland
END:VEVENT
BEGIN:VEVENT
DTSTART;TZID=Europe/Berlin:20230326T150000
DTEND;TZID=Europe/Berlin:20230326T170000
DTSTAMP:20260421T032642
CREATED:20230204T173915Z
LAST-MODIFIED:20230204T173915Z
UID:9417-1679842800-1679850000@www.weisbach.info
SUMMARY:Heimspiel des SC Weisbach gegen Wagenschwend
DESCRIPTION:
URL:https://www.weisbach.info/event/heimspiel-des-sc-weisbach-gegen-wagenschwend
LOCATION:Sportheim Weisbach\, Robener Weg 1\, Waldbrunn\, 69429\, Deutschland
END:VEVENT
END:VCALENDAR