BEGIN:VCALENDAR
VERSION:2.0
PRODID:-//Weisbach - ECPv6.15.20//NONSGML v1.0//EN
CALSCALE:GREGORIAN
METHOD:PUBLISH
X-WR-CALNAME:Weisbach
X-ORIGINAL-URL:https://www.weisbach.info
X-WR-CALDESC:Veranstaltungen für Weisbach
REFRESH-INTERVAL;VALUE=DURATION:PT1H
X-Robots-Tag:noindex
X-PUBLISHED-TTL:PT1H
BEGIN:VTIMEZONE
TZID:Europe/Berlin
BEGIN:DAYLIGHT
TZOFFSETFROM:+0100
TZOFFSETTO:+0200
TZNAME:CEST
DTSTART:20210328T010000
END:DAYLIGHT
BEGIN:STANDARD
TZOFFSETFROM:+0200
TZOFFSETTO:+0100
TZNAME:CET
DTSTART:20211031T010000
END:STANDARD
BEGIN:DAYLIGHT
TZOFFSETFROM:+0100
TZOFFSETTO:+0200
TZNAME:CEST
DTSTART:20220327T010000
END:DAYLIGHT
BEGIN:STANDARD
TZOFFSETFROM:+0200
TZOFFSETTO:+0100
TZNAME:CET
DTSTART:20221030T010000
END:STANDARD
BEGIN:DAYLIGHT
TZOFFSETFROM:+0100
TZOFFSETTO:+0200
TZNAME:CEST
DTSTART:20230326T010000
END:DAYLIGHT
BEGIN:STANDARD
TZOFFSETFROM:+0200
TZOFFSETTO:+0100
TZNAME:CET
DTSTART:20231029T010000
END:STANDARD
END:VTIMEZONE
BEGIN:VEVENT
DTSTART;TZID=Europe/Berlin:20221204T140000
DTEND;TZID=Europe/Berlin:20221204T160000
DTSTAMP:20260421T080403
CREATED:20221118T183708Z
LAST-MODIFIED:20221118T183708Z
UID:9268-1670162400-1670169600@www.weisbach.info
SUMMARY:Heimspiel des SC Weisbach gegen Neckargerach
DESCRIPTION: 
URL:https://www.weisbach.info/event/heimspiel-des-sc-weisbach-gegen-neckargerach
LOCATION:Sportheim Weisbach\, Robener Weg 1\, Waldbrunn\, 69429\, Deutschland
END:VEVENT
BEGIN:VEVENT
DTSTART;TZID=Europe/Berlin:20221206T180000
DTEND;TZID=Europe/Berlin:20221206T190000
DTSTAMP:20260421T080403
CREATED:20221206T060059Z
LAST-MODIFIED:20221206T060059Z
UID:9309-1670349600-1670353200@www.weisbach.info
SUMMARY:Der Nikolaus kommt ins Bürgerhaus
DESCRIPTION:
URL:https://www.weisbach.info/event/der-nikolaus-kommt-ins-buergerhaus-2
LOCATION:Bürgerhaus Weisbach\, Mosbacher Strasse 20\, Waldbrunn\, 69429\, Deutschland
END:VEVENT
BEGIN:VEVENT
DTSTART;TZID=Europe/Berlin:20221217T190000
DTEND;TZID=Europe/Berlin:20221217T235900
DTSTAMP:20260421T080403
CREATED:20221119T140203Z
LAST-MODIFIED:20221202T174753Z
UID:9271-1671303600-1671321540@www.weisbach.info
SUMMARY:Weihnachtsfeier beim SC Weisbach
DESCRIPTION:Die diesjährige Weihnachsfeier des SC Weisbach 1964 e.V. findet am Samstag\, den 17.12.2022\, ab 19.00 Uhr im Vereinsheim statt. Hierzu laden wir alle Spieler der Senioren- und AH- Mannschaft mit Begleitung sowie alle Freunde und Gönner des SC Weisbach recht herzlich ein.\nDie Vorstandschaft
URL:https://www.weisbach.info/event/weihnachtsfeier-beim-sc-weisbach-4
LOCATION:Sportheim Weisbach\, Robener Weg 1\, Waldbrunn\, 69429\, Deutschland
END:VEVENT
END:VCALENDAR