BEGIN:VCALENDAR
VERSION:2.0
PRODID:-//Weisbach - ECPv6.15.20//NONSGML v1.0//EN
CALSCALE:GREGORIAN
METHOD:PUBLISH
X-WR-CALNAME:Weisbach
X-ORIGINAL-URL:https://www.weisbach.info
X-WR-CALDESC:Veranstaltungen für Weisbach
REFRESH-INTERVAL;VALUE=DURATION:PT1H
X-Robots-Tag:noindex
X-PUBLISHED-TTL:PT1H
BEGIN:VTIMEZONE
TZID:Europe/Berlin
BEGIN:DAYLIGHT
TZOFFSETFROM:+0100
TZOFFSETTO:+0200
TZNAME:CEST
DTSTART:20210328T010000
END:DAYLIGHT
BEGIN:STANDARD
TZOFFSETFROM:+0200
TZOFFSETTO:+0100
TZNAME:CET
DTSTART:20211031T010000
END:STANDARD
BEGIN:DAYLIGHT
TZOFFSETFROM:+0100
TZOFFSETTO:+0200
TZNAME:CEST
DTSTART:20220327T010000
END:DAYLIGHT
BEGIN:STANDARD
TZOFFSETFROM:+0200
TZOFFSETTO:+0100
TZNAME:CET
DTSTART:20221030T010000
END:STANDARD
BEGIN:DAYLIGHT
TZOFFSETFROM:+0100
TZOFFSETTO:+0200
TZNAME:CEST
DTSTART:20230326T010000
END:DAYLIGHT
BEGIN:STANDARD
TZOFFSETFROM:+0200
TZOFFSETTO:+0100
TZNAME:CET
DTSTART:20231029T010000
END:STANDARD
END:VTIMEZONE
BEGIN:VEVENT
DTSTART;TZID=Europe/Berlin:20221002T100000
DTEND;TZID=Europe/Berlin:20221002T170000
DTSTAMP:20260421T105727
CREATED:20220915T170152Z
LAST-MODIFIED:20220915T170153Z
UID:9145-1664704800-1664730000@www.weisbach.info
SUMMARY:Bayrischer Frühschoppen im Sportheim Schollbrunn
DESCRIPTION:
URL:https://www.weisbach.info/event/bayrischer-fruehschoppen-im-sportheim-schollbrunn
LOCATION:Sportplatz Schollbrunn\, Kopprain\, Waldbrunn\, 69429
END:VEVENT
BEGIN:VEVENT
DTSTART;TZID=Europe/Berlin:20221002T160000
DTEND;TZID=Europe/Berlin:20221002T180000
DTSTAMP:20260421T105727
CREATED:20220908T045337Z
LAST-MODIFIED:20221002T132832Z
UID:9133-1664726400-1664733600@www.weisbach.info
SUMMARY:Spiel des SCW gegen Neckargerach in Schollbrunn ist abgesetzt
DESCRIPTION:
URL:https://www.weisbach.info/event/heimspiel-des-scw-gegen-neckargerach-2
END:VEVENT
BEGIN:VEVENT
DTSTART;TZID=Europe/Berlin:20221008T160000
DTEND;TZID=Europe/Berlin:20221008T180000
DTSTAMP:20260421T105727
CREATED:20220908T045453Z
LAST-MODIFIED:20220908T045622Z
UID:9135-1665244800-1665252000@www.weisbach.info
SUMMARY:Auswärtsspiel des SCW in Fahrenbach
DESCRIPTION:
URL:https://www.weisbach.info/event/auswaertsspiel-des-scw-in-fahrenbach-4
END:VEVENT
BEGIN:VEVENT
DTSTART;TZID=Europe/Berlin:20221009T130000
DTEND;TZID=Europe/Berlin:20221009T170000
DTSTAMP:20260421T105727
CREATED:20220923T193647Z
LAST-MODIFIED:20220923T194447Z
UID:9164-1665320400-1665334800@www.weisbach.info
SUMMARY:Drachenfest am Segelfluggelände Mülben
DESCRIPTION:
URL:https://www.weisbach.info/event/drachenfest-am-segelfluggelaende
END:VEVENT
BEGIN:VEVENT
DTSTART;TZID=Europe/Berlin:20221015T180000
DTEND;TZID=Europe/Berlin:20221016T220000
DTSTAMP:20260421T105727
CREATED:20220923T194120Z
LAST-MODIFIED:20220930T124945Z
UID:9170-1665856800-1665957600@www.weisbach.info
SUMMARY:Kerwe im Sportheim
DESCRIPTION:
URL:https://www.weisbach.info/event/kerwe-im-sportheim
LOCATION:Sportheim Weisbach\, Robener Weg 1\, Waldbrunn\, 69429\, Deutschland
END:VEVENT
BEGIN:VEVENT
DTSTART;TZID=Europe/Berlin:20221016T153000
DTEND;TZID=Europe/Berlin:20221016T173000
DTSTAMP:20260421T105727
CREATED:20220921T045031Z
LAST-MODIFIED:20220930T125047Z
UID:9160-1665934200-1665941400@www.weisbach.info
SUMMARY:Heimspiel des SCW gegen FC Mosbach
DESCRIPTION:
URL:https://www.weisbach.info/event/heimspiel-des-scw-gegen-fc-mosbach-4
LOCATION:Sportheim Weisbach\, Robener Weg 1\, Waldbrunn\, 69429\, Deutschland
END:VEVENT
BEGIN:VEVENT
DTSTART;TZID=Europe/Berlin:20221023T150000
DTEND;TZID=Europe/Berlin:20221023T170000
DTSTAMP:20260421T105727
CREATED:20221009T114727Z
LAST-MODIFIED:20221009T114727Z
UID:9200-1666537200-1666544400@www.weisbach.info
SUMMARY:Auswärtsspiel des SCW in Schwarzach
DESCRIPTION:
URL:https://www.weisbach.info/event/auswaertsspiel-des-scw-in-schwarzach-3
END:VEVENT
BEGIN:VEVENT
DTSTART;TZID=Europe/Berlin:20221029T153000
DTEND;TZID=Europe/Berlin:20221029T173000
DTSTAMP:20260421T105727
CREATED:20221009T114844Z
LAST-MODIFIED:20221009T114844Z
UID:9202-1667057400-1667064600@www.weisbach.info
SUMMARY:Heimspiel des SCW gegen SC Oberschefflenz
DESCRIPTION:
URL:https://www.weisbach.info/event/heimspiel-des-scw-gegen-sc-oberschefflenz
LOCATION:Sportheim Weisbach\, Robener Weg 1\, Waldbrunn\, 69429\, Deutschland
END:VEVENT
END:VCALENDAR