BEGIN:VCALENDAR
VERSION:2.0
PRODID:-//Weisbach - ECPv6.15.20//NONSGML v1.0//EN
CALSCALE:GREGORIAN
METHOD:PUBLISH
X-ORIGINAL-URL:https://www.weisbach.info
X-WR-CALDESC:Veranstaltungen für Weisbach
REFRESH-INTERVAL;VALUE=DURATION:PT1H
X-Robots-Tag:noindex
X-PUBLISHED-TTL:PT1H
BEGIN:VTIMEZONE
TZID:Europe/Berlin
BEGIN:DAYLIGHT
TZOFFSETFROM:+0100
TZOFFSETTO:+0200
TZNAME:CEST
DTSTART:20210328T010000
END:DAYLIGHT
BEGIN:STANDARD
TZOFFSETFROM:+0200
TZOFFSETTO:+0100
TZNAME:CET
DTSTART:20211031T010000
END:STANDARD
BEGIN:DAYLIGHT
TZOFFSETFROM:+0100
TZOFFSETTO:+0200
TZNAME:CEST
DTSTART:20220327T010000
END:DAYLIGHT
BEGIN:STANDARD
TZOFFSETFROM:+0200
TZOFFSETTO:+0100
TZNAME:CET
DTSTART:20221030T010000
END:STANDARD
BEGIN:DAYLIGHT
TZOFFSETFROM:+0100
TZOFFSETTO:+0200
TZNAME:CEST
DTSTART:20230326T010000
END:DAYLIGHT
BEGIN:STANDARD
TZOFFSETFROM:+0200
TZOFFSETTO:+0100
TZNAME:CET
DTSTART:20231029T010000
END:STANDARD
END:VTIMEZONE
BEGIN:VEVENT
DTSTART;VALUE=DATE:20220603
DTEND;VALUE=DATE:20220606
DTSTAMP:20260421T165420
CREATED:20200623T190026Z
LAST-MODIFIED:20220526T094900Z
UID:8213-1654214400-1654473599@www.weisbach.info
SUMMARY:Sportfest SC Weisbach
DESCRIPTION:Spielplan zum Sportfest:\nFreitag 03.06.2022 / E-Jugend  ESC Eberbach – JuF Waldbrunn– 17:15 Uhr \nFreitag 03.06.2022 / AH Mudau – Weisbach – 18:20 Uhr \nFreitag 03.06.2022 / AH Dielbach – Schlossau – 19:30 Uhr \nSamstatg 04.06.2022 – 15:30 Uhr Offizielles letztes Rundenspiel SC Weisbach – TSV Schwarzach\n \nSonntag 05.06.2022 / B-Jugend Mädels SC Klinge Seckach – Dielbach – 11:00 Uhr
URL:https://www.weisbach.info/event/sportfest-sc-weisbach
LOCATION:Sportheim Weisbach\, Robener Weg 1\, Waldbrunn\, 69429\, Deutschland
END:VEVENT
BEGIN:VEVENT
DTSTART;TZID=Europe/Berlin:20220604T153000
DTEND;TZID=Europe/Berlin:20220604T173000
DTSTAMP:20260421T165420
CREATED:20220516T051812Z
LAST-MODIFIED:20220516T051857Z
UID:8991-1654356600-1654363800@www.weisbach.info
SUMMARY:Heimspiel des SC Weisbach gegen Schwarzach
DESCRIPTION:
URL:https://www.weisbach.info/event/heimspiel-des-sc-weisbach-gegen-schwarzach
LOCATION:Sportheim Weisbach\, Robener Weg 1\, Waldbrunn\, 69429\, Deutschland
END:VEVENT
BEGIN:VEVENT
DTSTART;TZID=Europe/Berlin:20220605T120000
DTEND;TZID=Europe/Berlin:20220605T140000
DTSTAMP:20260421T165420
CREATED:20220526T102257Z
LAST-MODIFIED:20220526T102257Z
UID:9003-1654430400-1654437600@www.weisbach.info
SUMMARY:Mittagessen beim SC Weisbach
DESCRIPTION:Der SC Weisbach läd am Sonntag den 05.06.2022 zum Mittagessen ein: \nServiert wird: Boeuf Bourguignon (Rindfleisch) mit Spätzle und Salat
URL:https://www.weisbach.info/event/mittagessen-beim-sc-weisbach
LOCATION:Sportheim Weisbach\, Robener Weg 1\, Waldbrunn\, 69429\, Deutschland
END:VEVENT
BEGIN:VEVENT
DTSTART;TZID=Europe/Berlin:20220612T110000
DTEND;TZID=Europe/Berlin:20220612T133000
DTSTAMP:20260421T165420
CREATED:20220602T084432Z
LAST-MODIFIED:20220602T084432Z
UID:9012-1655031600-1655040600@www.weisbach.info
SUMMARY:Generalversammlung Gem. Chor Weisbach
DESCRIPTION:GeneralversammlungZu unserer Generalversammlung am 12.06.2022 um 11:00 Uhr imBürgerhaus in Weisbach laden wir alle aktiven und passiven Mit-glieder recht herzlich ein.Folgende Tagesordnung ist vorgesehen:1. Begrüßung durch den 1. Vorsitzenden2. Totenehrung3. Bericht des 1. Vorsitzenden4. Protokoll der letzten Generalversammlung \n5. Tätigkeitsbericht6. Kassenbericht7. Bericht der Kassenprüfer8. Entlastung der Vorstandschaft9. Neuwahlen10. Ehrungen11. Grußworte12. Anträge und VerschiedenesAnträge zur Generalversammlung sind schriftlich bis zum08.06.2022 beim 1. Vorsitzenden einzureichen \n 
URL:https://www.weisbach.info/event/generalversammlung-gem-chor-weisbach
LOCATION:Bürgerhaus Weisbach\, Mosbacher Strasse 20\, Waldbrunn\, 69429\, Deutschland
END:VEVENT
BEGIN:VEVENT
DTSTART;VALUE=DATE:20220623
DTEND;VALUE=DATE:20220627
DTSTAMP:20260421T165420
CREATED:20210419T065037Z
LAST-MODIFIED:20220609T114111Z
UID:8541-1655942400-1656287999@www.weisbach.info
SUMMARY:Vereinsausflug des SC Weisbach
DESCRIPTION:Vereinsausflug  \nins Ötztal / Österreich \nWie ihr schon wisst\, mussten wir leider den Vereinsausflug auf das \nJahr 2022 verschieben. \nIn folgendem der Termin sofern es die Corona-Situation natürlich zu lässt: \nAbfahrt: Do. 23.06.2022 gegen 04:00 in Weisbach \nRückfahrt: So. 26.06.2022 gegen 11:00/12:00 nach Weisbach \nUnterkunft: Hotel 3 Mohren in Oetz inkl. Frühstück  \nDer Preis für die Hin- und Rückfahrt mit dem Bus und die Unterkunft mit Frühstück liegt bei voraussichtlich 250 €. \nUm erneut planen zu können\, bitte ich euch mir ggf. bis zum 30.06.2021 absagen mitzuteilen. \nAnmeldungen sind bis zum 31.10.2021 willkommen. \nWeitere Informationen und Anmeldung bei Daniel Haas (Tel. 0151 26906976 – danielhaas87@googlemail.com)
URL:https://www.weisbach.info/event/vereinsausflug-des-sc-weisbach
END:VEVENT
END:VCALENDAR