BEGIN:VCALENDAR
VERSION:2.0
PRODID:-//Weisbach - ECPv6.15.20//NONSGML v1.0//EN
CALSCALE:GREGORIAN
METHOD:PUBLISH
X-ORIGINAL-URL:https://www.weisbach.info
X-WR-CALDESC:Veranstaltungen für Weisbach
REFRESH-INTERVAL;VALUE=DURATION:PT1H
X-Robots-Tag:noindex
X-PUBLISHED-TTL:PT1H
BEGIN:VTIMEZONE
TZID:Europe/Berlin
BEGIN:DAYLIGHT
TZOFFSETFROM:+0100
TZOFFSETTO:+0200
TZNAME:CEST
DTSTART:20200329T010000
END:DAYLIGHT
BEGIN:STANDARD
TZOFFSETFROM:+0200
TZOFFSETTO:+0100
TZNAME:CET
DTSTART:20201025T010000
END:STANDARD
BEGIN:DAYLIGHT
TZOFFSETFROM:+0100
TZOFFSETTO:+0200
TZNAME:CEST
DTSTART:20210328T010000
END:DAYLIGHT
BEGIN:STANDARD
TZOFFSETFROM:+0200
TZOFFSETTO:+0100
TZNAME:CET
DTSTART:20211031T010000
END:STANDARD
BEGIN:DAYLIGHT
TZOFFSETFROM:+0100
TZOFFSETTO:+0200
TZNAME:CEST
DTSTART:20220327T010000
END:DAYLIGHT
BEGIN:STANDARD
TZOFFSETFROM:+0200
TZOFFSETTO:+0100
TZNAME:CET
DTSTART:20221030T010000
END:STANDARD
BEGIN:DAYLIGHT
TZOFFSETFROM:+0100
TZOFFSETTO:+0200
TZNAME:CEST
DTSTART:20230326T010000
END:DAYLIGHT
BEGIN:STANDARD
TZOFFSETFROM:+0200
TZOFFSETTO:+0100
TZNAME:CET
DTSTART:20231029T010000
END:STANDARD
END:VTIMEZONE
BEGIN:VEVENT
DTSTART;VALUE=DATE:20211203
DTEND;VALUE=DATE:20220201
DTSTAMP:20260422T032336
CREATED:20211203T165219Z
LAST-MODIFIED:20211203T165219Z
UID:8814-1638489600-1643673599@www.weisbach.info
SUMMARY:Das Sportheim des SC Weisbach ist ab sofort dauerhaft geschlossen
DESCRIPTION:
URL:https://www.weisbach.info/event/das-sportheim-des-sc-weisbach-ist-ab-sofort-dauerhaft-geschlossen
LOCATION:Sportheim Weisbach\, Robener Weg 1\, Waldbrunn\, 69429\, Deutschland
END:VEVENT
BEGIN:VEVENT
DTSTART;TZID=Europe/Berlin:20211205T140000
DTEND;TZID=Europe/Berlin:20211205T160000
DTSTAMP:20260422T032336
CREATED:20211122T062859Z
LAST-MODIFIED:20211203T091706Z
UID:8794-1638712800-1638720000@www.weisbach.info
SUMMARY:Auswärtsspiel des SC Weisbach bei der SG Waldmühlbach/ Katzental ist abgesetzt
DESCRIPTION:
URL:https://www.weisbach.info/event/auswaertsspiel-des-sc-weisbach-bei-der-sg-waldmuehlbach-katzental
END:VEVENT
BEGIN:VEVENT
DTSTART;VALUE=DATE:20211218
DTEND;VALUE=DATE:20211219
DTSTAMP:20260422T032336
CREATED:20210927T093435Z
LAST-MODIFIED:20211122T063233Z
UID:8687-1639785600-1639871999@www.weisbach.info
SUMMARY:Weihnachtsfeier beim SC Weisbach muss leider ausfallen
DESCRIPTION:Hallo SCW`ler\,\nda die Corona-Zahlen weiter steigen und wir weitgehendst uneingeschränkt eine Festlichkeit durchführen wollen\, werden wir die Weihnachtsfeier in unserer SCW- Manier mit einem für uns üblichen längeren inoffiziellen Teil leider nicht durchführen können. Daher wird die geplante Weihnachtsfeier in diesem Jahr nicht stattfinden.
URL:https://www.weisbach.info/event/weihnachtsfeier-beim-sc-weisbach-3
LOCATION:Sportheim Weisbach\, Robener Weg 1\, Waldbrunn\, 69429\, Deutschland
END:VEVENT
BEGIN:VEVENT
DTSTART;TZID=Europe/Berlin:20211224T160000
DTEND;TZID=Europe/Berlin:20211224T170000
DTSTAMP:20260422T032336
CREATED:20211222T145756Z
LAST-MODIFIED:20211222T150658Z
UID:8823-1640361600-1640365200@www.weisbach.info
SUMMARY:Gottesdienst am Friedhof an Heiligabend
DESCRIPTION:Gottesdienst am Friedhof mit Prädikant Peter Back \nDie Kirchengemeinden bitten darum\, zu sämtlichen Gottesdiensten geimpft\, getestet oder genesen zu kommen. Eine Anmeldung im Vorfeld ist nicht nötig\, wohl aber die Teilnehmerdokumentation vor Ort.
URL:https://www.weisbach.info/event/gottesdienst-am-friedhof-an-heiligabend
LOCATION:Friedhof Weisbach\, Dielbacher Weg\, Waldbrunn\, 69429\, Deutschland
END:VEVENT
END:VCALENDAR