BEGIN:VCALENDAR
VERSION:2.0
PRODID:-//Weisbach - ECPv6.15.20//NONSGML v1.0//EN
CALSCALE:GREGORIAN
METHOD:PUBLISH
X-ORIGINAL-URL:https://www.weisbach.info
X-WR-CALDESC:Veranstaltungen für Weisbach
REFRESH-INTERVAL;VALUE=DURATION:PT1H
X-Robots-Tag:noindex
X-PUBLISHED-TTL:PT1H
BEGIN:VTIMEZONE
TZID:Europe/Berlin
BEGIN:DAYLIGHT
TZOFFSETFROM:+0100
TZOFFSETTO:+0200
TZNAME:CEST
DTSTART:20200329T010000
END:DAYLIGHT
BEGIN:STANDARD
TZOFFSETFROM:+0200
TZOFFSETTO:+0100
TZNAME:CET
DTSTART:20201025T010000
END:STANDARD
BEGIN:DAYLIGHT
TZOFFSETFROM:+0100
TZOFFSETTO:+0200
TZNAME:CEST
DTSTART:20210328T010000
END:DAYLIGHT
BEGIN:STANDARD
TZOFFSETFROM:+0200
TZOFFSETTO:+0100
TZNAME:CET
DTSTART:20211031T010000
END:STANDARD
BEGIN:DAYLIGHT
TZOFFSETFROM:+0100
TZOFFSETTO:+0200
TZNAME:CEST
DTSTART:20220327T010000
END:DAYLIGHT
BEGIN:STANDARD
TZOFFSETFROM:+0200
TZOFFSETTO:+0100
TZNAME:CET
DTSTART:20221030T010000
END:STANDARD
END:VTIMEZONE
BEGIN:VEVENT
DTSTART;TZID=Europe/Berlin:20210801T123000
DTEND;TZID=Europe/Berlin:20210801T143000
DTSTAMP:20260422T083204
CREATED:20210730T062332Z
LAST-MODIFIED:20210730T062332Z
UID:8620-1627821000-1627828200@www.weisbach.info
SUMMARY:Testspiel des SCW in Neckarhausen
DESCRIPTION:
URL:https://www.weisbach.info/event/testspiel-des-scw-in-neckarhausen
END:VEVENT
BEGIN:VEVENT
DTSTART;TZID=Europe/Berlin:20210808T140000
DTEND;TZID=Europe/Berlin:20210808T160000
DTSTAMP:20260422T083204
CREATED:20210807T150622Z
LAST-MODIFIED:20210807T150622Z
UID:8632-1628431200-1628438400@www.weisbach.info
SUMMARY:Trainingsspiel des SCW in Eberbach
DESCRIPTION:
URL:https://www.weisbach.info/event/trainingsspiel-des-scw-in-eberbach
END:VEVENT
BEGIN:VEVENT
DTSTART;TZID=Europe/Berlin:20210812T160000
DTEND;TZID=Europe/Berlin:20210813T050000
DTSTAMP:20260422T083204
CREATED:20210812T071604Z
LAST-MODIFIED:20210812T071604Z
UID:8634-1628784000-1628830800@www.weisbach.info
SUMMARY:Sternwarte - Nacht der Sternschnuppen
DESCRIPTION:Sternschnuppen 2021 beobachten \nDie Perseiden haben ihr Maximum heute\, am 12. August. Der nächtliche Sternenhimmel bietet immer einen tollen Anblick – doch im Juli und August ist er besonders sehenswert. Dann kann man die Sternschnuppen der Perseiden über den Nachthimmel flitzen sehen. Im Jahr 2021 dürfte der Anblick des Mete-or-Stroms besonders spektakulär werden: Das Licht des Mondes stört die Sternschnuppennacht nicht. Heute ist die Sternwarte Weisbach als Treffpunkt zur Beobachtung der Sternschnuppen die ganze Nacht geöffnet. Sternschnuppen entstehen\, wenn die Erde durch eine Staubspur fliegt\, die ein Komet im Weltall hinterlassen hat. Die Staubteilchen treffen auf die Erdatmosphäre und regen dort Atome zum Leuchten an – eine helle Lichtspur (ein Meteor) zieht über den Nachthimmel. Auch Feuerkugeln oder Feuerbälle (besonders helle Sternschnuppen) können darunter sein. Viele Meteor-Ströme treten regelmäßig auf\, da die Erde immer wieder dieselben Staubspuren kreuzt. \nVom 17. Juli bis 24. August jeden Jahres fliegt die Erde durch eine Staubspur\, die der Komet 109P/Swift-Tuttle im Weltall hinterlassen hat. In diesem Zeitraum treten die Sternschnuppen der Perseiden auf\, ihr Maximum hat der Meteor-Strom alljährlich am 12. August. Je nach Qualität des Beobachtungsorts kann die Zahl (maximal etwa 100 pro Stunde) schwanken. Im Jahr 2021 liegt das Perseiden-Maximum für Sternschnuppen-Beobachter in Deutschland und Europa günstig: Der Höhepunkt des Meteor-Stroms erstreckt sich vom 12. August 2021 um 16 Uhr bis 13. August 2021 um 5 Uhr. Die größte Zahl an Sternschnuppen sollte man am späten Abend des 12. August 2021 nach Sonnenuntergang bis etwa Mitternacht sehen können. Wie genau findet man eigentlich die Sternschnuppen am Nachthimmel? Die Perseiden haben ihren Namen vom Sternbild Perseus\, von dessen Mitte der Meteor-Strom auszugehen scheint. Wer dieses Sternbild am Himmel sucht\, hat einen guten Orientierungspunkt – allerdings können die Sternschnuppen am ganzen Himmel auftauchen. Verfolgt man ihre Spur zurück\, landet man immer wieder bei Perseus. Das Sternbild geht im August in der Abenddämmerung im Nordosten auf und wandert im Laufe der Nacht immer weiter nach oben. Ab etwa 23 Uhr steht es hoch genug\, um gut zu sehen zu sein\, als Orientierungshilfe kann das bekannte Sternbild Cassiopeia („Himmels-W“) oberhalb des Perseus dienen.
URL:https://www.weisbach.info/event/sternwarte-nacht-der-sternschnuppen
LOCATION:Sternwarte Weisbach\, Buckelweg 31\, Waldbrunn\, 69429\, Deutschland
END:VEVENT
BEGIN:VEVENT
DTSTART;TZID=Europe/Berlin:20210822T150000
DTEND;TZID=Europe/Berlin:20210822T170000
DTSTAMP:20260422T083204
CREATED:20210715T040407Z
LAST-MODIFIED:20210715T040407Z
UID:8609-1629644400-1629651600@www.weisbach.info
SUMMARY:Rundenstart des SC Weisbach beim SV Robern
DESCRIPTION:
URL:https://www.weisbach.info/event/rundenstart-des-sc-weisbach-beim-sv-robern
END:VEVENT
BEGIN:VEVENT
DTSTART;TZID=Europe/Berlin:20210825T181500
DTEND;TZID=Europe/Berlin:20210825T201500
DTSTAMP:20260422T083204
CREATED:20210715T040636Z
LAST-MODIFIED:20210715T040636Z
UID:8611-1629915300-1629922500@www.weisbach.info
SUMMARY:Heimspiel des SCW gegen die SG Waldmühlbach/ Katzental
DESCRIPTION:
URL:https://www.weisbach.info/event/heimspiel-des-scw-gegen-die-sg-waldmuehlbach-katzental-2
LOCATION:Sportheim Weisbach\, Robener Weg 1\, Waldbrunn\, 69429\, Deutschland
END:VEVENT
BEGIN:VEVENT
DTSTART;TZID=Europe/Berlin:20210829T163000
DTEND;TZID=Europe/Berlin:20210829T183000
DTSTAMP:20260422T083204
CREATED:20210801T063641Z
LAST-MODIFIED:20210828T073000Z
UID:8626-1630254600-1630261800@www.weisbach.info
SUMMARY:Auswärtsspiel des SCW in Billigheim
DESCRIPTION:
URL:https://www.weisbach.info/event/auswaertsspiel-des-scw-in-billigheim-2
END:VEVENT
END:VCALENDAR