BEGIN:VCALENDAR
VERSION:2.0
PRODID:-//Weisbach - ECPv6.15.20//NONSGML v1.0//EN
CALSCALE:GREGORIAN
METHOD:PUBLISH
X-WR-CALNAME:Weisbach
X-ORIGINAL-URL:https://www.weisbach.info
X-WR-CALDESC:Veranstaltungen für Weisbach
REFRESH-INTERVAL;VALUE=DURATION:PT1H
X-Robots-Tag:noindex
X-PUBLISHED-TTL:PT1H
BEGIN:VTIMEZONE
TZID:Europe/Berlin
BEGIN:DAYLIGHT
TZOFFSETFROM:+0100
TZOFFSETTO:+0200
TZNAME:CEST
DTSTART:20190331T010000
END:DAYLIGHT
BEGIN:STANDARD
TZOFFSETFROM:+0200
TZOFFSETTO:+0100
TZNAME:CET
DTSTART:20191027T010000
END:STANDARD
BEGIN:DAYLIGHT
TZOFFSETFROM:+0100
TZOFFSETTO:+0200
TZNAME:CEST
DTSTART:20200329T010000
END:DAYLIGHT
BEGIN:STANDARD
TZOFFSETFROM:+0200
TZOFFSETTO:+0100
TZNAME:CET
DTSTART:20201025T010000
END:STANDARD
BEGIN:DAYLIGHT
TZOFFSETFROM:+0100
TZOFFSETTO:+0200
TZNAME:CEST
DTSTART:20210328T010000
END:DAYLIGHT
BEGIN:STANDARD
TZOFFSETFROM:+0200
TZOFFSETTO:+0100
TZNAME:CET
DTSTART:20211031T010000
END:STANDARD
END:VTIMEZONE
BEGIN:VEVENT
DTSTART;VALUE=DATE:20201019
DTEND;VALUE=DATE:20201112
DTSTAMP:20260422T235727
CREATED:20200925T142356Z
LAST-MODIFIED:20201030T144850Z
UID:8325-1603065600-1605139199@www.weisbach.info
SUMMARY:Sperrung der L 589 von Weisbach nach Lohrbach
DESCRIPTION:
URL:https://www.weisbach.info/event/sperrung-der-l-589-von-weisbach-nach-lohrbach
END:VEVENT
BEGIN:VEVENT
DTSTART;VALUE=DATE:20201029
DTEND;VALUE=DATE:20210101
DTSTAMP:20260422T235727
CREATED:20201029T114452Z
LAST-MODIFIED:20201126T122848Z
UID:8372-1603929600-1609459199@www.weisbach.info
SUMMARY:Spielbetrieb im Amateurfussball ausgesetzt
DESCRIPTION:Aussetzung des Trainings- & Spielbetriebs \nSportheim bleibt geschlossen \nHallo zusammen\,\naufgrund der aktuellen Situation mit dem Coronavirus wird ab sofort der Trainings- & Spielbetrieb im Jugend-\, AH-\, und Seniorenbereich bis zum 31.12.2020 ausgesetzt.\nDer Sportheimbetrieb bleibt ab sofort ebenso bis mindestens 30.11.2020 geschlossen.\nFür weitere Informationen über die aktuelle Situation mit dem Coronavirus können z.B. über das Robert Koch Institut eingeholt werden.\nSobald wir neue spezifische Informationen zu dem Thema Spielbetrieb haben informieren wir euch.\nHaltet euch bitte besonders im privaten Umfeld an die aktuellen geltenden Regeln.\nFür Fragen stehen wir zur Verfügung. Hierzu bitte uns persönlich kontaktieren.\nDie Kontaktmöglichkeiten hierzu sind Daniel Haas\, Martin Grimm \, Emanuele Zerbo und Jochen Ebert. \nVorstandschaft des SC Weisbach 1964 e.V.
URL:https://www.weisbach.info/event/spielbetrieb-im-amateurfussball-ausgesetzt
END:VEVENT
BEGIN:VEVENT
DTSTART;VALUE=DATE:20201030
DTEND;VALUE=DATE:20201201
DTSTAMP:20260422T235727
CREATED:20201030T172320Z
LAST-MODIFIED:20201030T172320Z
UID:8379-1604016000-1606780799@www.weisbach.info
SUMMARY:Schützenhaus geschlossen
DESCRIPTION:Aussetzung des Trainings – und Wettkampfbetriebes \nHallo Zusammen\,\naufgrund der aktuellen Situation mit dem Coronavirus wird der Trainings-\nund Wettkampfbetrieb bis auf weiters untersagt.\nDas Schützenhaus bleibt ab Montag\, den 02.11.2020 bis auf weiteres\ngeschlossen. Damit folgt der KKS Weisbach den Anweisungen des\nBadischen Sportschützenverbandes und der Gemeinde Waldbrunn.\nFür fragen stehen folgende Personen zur Verfügung: \nHeinz-Dieter Ihrig\, Ortsvorsteher \nEdgar Lenz\, kom. OSM \nMarkus Lenz\, SPL
URL:https://www.weisbach.info/event/schuetzenhaus-geschlossen
LOCATION:Schützenhaus KKS Weisbach\, Dielbacher Weg\, Waldbrunn\, 69429\, Deutschland
END:VEVENT
BEGIN:VEVENT
DTSTART;TZID=Europe/Berlin:20201101T143000
DTEND;TZID=Europe/Berlin:20201101T163000
DTSTAMP:20260422T235727
CREATED:20201022T150512Z
LAST-MODIFIED:20201029T114305Z
UID:8353-1604241000-1604248200@www.weisbach.info
SUMMARY:Heimspiel des SCW gegen Lohrbach ist abgesetzt!!
DESCRIPTION:
URL:https://www.weisbach.info/event/heimspiel-des-scw-gegen-lohrbach
LOCATION:Sportheim Weisbach\, Robener Weg 1\, Waldbrunn\, 69429\, Deutschland
END:VEVENT
BEGIN:VEVENT
DTSTART;TZID=Europe/Berlin:20201108T143000
DTEND;TZID=Europe/Berlin:20201108T163000
DTSTAMP:20260422T235727
CREATED:20201022T150708Z
LAST-MODIFIED:20201029T114650Z
UID:8355-1604845800-1604853000@www.weisbach.info
SUMMARY:Auswärtsspiel des SCW in Neckargerach ist abgesetzt
DESCRIPTION:
URL:https://www.weisbach.info/event/auswaertsspiel-des-scw-in-neckargerach
END:VEVENT
BEGIN:VEVENT
DTSTART;TZID=Europe/Berlin:20201115T143000
DTEND;TZID=Europe/Berlin:20201115T163000
DTSTAMP:20260422T235727
CREATED:20201022T150854Z
LAST-MODIFIED:20201029T114724Z
UID:8357-1605450600-1605457800@www.weisbach.info
SUMMARY:Heimspiel des SCW gegen Robern ist abgesetzt
DESCRIPTION:
URL:https://www.weisbach.info/event/heimspiel-des-scw-gegen-robern
LOCATION:Sportheim Weisbach\, Robener Weg 1\, Waldbrunn\, 69429\, Deutschland
END:VEVENT
BEGIN:VEVENT
DTSTART;TZID=Europe/Berlin:20201122T143000
DTEND;TZID=Europe/Berlin:20201122T163000
DTSTAMP:20260422T235727
CREATED:20201022T151154Z
LAST-MODIFIED:20201029T115236Z
UID:8359-1606055400-1606062600@www.weisbach.info
SUMMARY:Heimspiel des SCW gegen Oberschefflenz ist abgesetzt
DESCRIPTION:
URL:https://www.weisbach.info/event/heimspiel-des-scw-gegen-oberschefflenz
LOCATION:Sportheim Weisbach\, Robener Weg 1\, Waldbrunn\, 69429\, Deutschland
END:VEVENT
BEGIN:VEVENT
DTSTART;TZID=Europe/Berlin:20201129T120000
DTEND;TZID=Europe/Berlin:20201129T140000
DTSTAMP:20260422T235727
CREATED:20201022T151544Z
LAST-MODIFIED:20201029T115311Z
UID:8361-1606651200-1606658400@www.weisbach.info
SUMMARY:Auswärtsspiel des SCW beim FV Mosbach 2 ist abgesetzt
DESCRIPTION:
URL:https://www.weisbach.info/event/auswaertsspiel-des-scw-beim-fv-mosbach-2
END:VEVENT
END:VCALENDAR