BEGIN:VCALENDAR
VERSION:2.0
PRODID:-//Weisbach - ECPv6.15.20//NONSGML v1.0//EN
CALSCALE:GREGORIAN
METHOD:PUBLISH
X-WR-CALNAME:Weisbach
X-ORIGINAL-URL:https://www.weisbach.info
X-WR-CALDESC:Veranstaltungen für Weisbach
REFRESH-INTERVAL;VALUE=DURATION:PT1H
X-Robots-Tag:noindex
X-PUBLISHED-TTL:PT1H
BEGIN:VTIMEZONE
TZID:Europe/Berlin
BEGIN:DAYLIGHT
TZOFFSETFROM:+0100
TZOFFSETTO:+0200
TZNAME:CEST
DTSTART:20190331T010000
END:DAYLIGHT
BEGIN:STANDARD
TZOFFSETFROM:+0200
TZOFFSETTO:+0100
TZNAME:CET
DTSTART:20191027T010000
END:STANDARD
BEGIN:DAYLIGHT
TZOFFSETFROM:+0100
TZOFFSETTO:+0200
TZNAME:CEST
DTSTART:20200329T010000
END:DAYLIGHT
BEGIN:STANDARD
TZOFFSETFROM:+0200
TZOFFSETTO:+0100
TZNAME:CET
DTSTART:20201025T010000
END:STANDARD
BEGIN:DAYLIGHT
TZOFFSETFROM:+0100
TZOFFSETTO:+0200
TZNAME:CEST
DTSTART:20210328T010000
END:DAYLIGHT
BEGIN:STANDARD
TZOFFSETFROM:+0200
TZOFFSETTO:+0100
TZNAME:CET
DTSTART:20211031T010000
END:STANDARD
END:VTIMEZONE
BEGIN:VEVENT
DTSTART;TZID=Europe/Berlin:20200201T113000
DTEND;TZID=Europe/Berlin:20200201T180000
DTSTAMP:20260423T122845
CREATED:20191029T090527Z
LAST-MODIFIED:20200109T111355Z
UID:7623-1580556600-1580580000@www.weisbach.info
SUMMARY:Schlachtplattenessen beim SC Weisbach
DESCRIPTION:
URL:https://www.weisbach.info/event/schlachtplattenessen-beim-sc-weisbach
LOCATION:Sportheim Weisbach\, Robener Weg 1\, Waldbrunn\, 69429\, Deutschland
END:VEVENT
BEGIN:VEVENT
DTSTART;VALUE=DATE:20200214
DTEND;VALUE=DATE:20200215
DTSTAMP:20260423T122845
CREATED:20191029T090659Z
LAST-MODIFIED:20200109T111519Z
UID:7625-1581638400-1581724799@www.weisbach.info
SUMMARY:Kappenabend beim SC Weisbach
DESCRIPTION:
URL:https://www.weisbach.info/event/kappenabend-beim-sc-weisbach-2
LOCATION:Sportheim Weisbach\, Robener Weg 1\, Waldbrunn\, 69429\, Deutschland
END:VEVENT
BEGIN:VEVENT
DTSTART;TZID=Europe/Berlin:20200225T150000
DTEND;TZID=Europe/Berlin:20200225T200000
DTSTAMP:20260423T122846
CREATED:20200112T094733Z
LAST-MODIFIED:20200116T060159Z
UID:7749-1582642800-1582660800@www.weisbach.info
SUMMARY:Fasching im Sportheim mit Faschingsfeuer
DESCRIPTION:
URL:https://www.weisbach.info/event/fasching-im-sportheim-mit-faschingsfeuer
LOCATION:Sportheim Weisbach\, Robener Weg 1\, Waldbrunn\, 69429\, Deutschland
END:VEVENT
END:VCALENDAR