BEGIN:VCALENDAR
VERSION:2.0
PRODID:-//Weisbach - ECPv6.15.20//NONSGML v1.0//EN
CALSCALE:GREGORIAN
METHOD:PUBLISH
X-WR-CALNAME:Weisbach
X-ORIGINAL-URL:https://www.weisbach.info
X-WR-CALDESC:Veranstaltungen für Weisbach
REFRESH-INTERVAL;VALUE=DURATION:PT1H
X-Robots-Tag:noindex
X-PUBLISHED-TTL:PT1H
BEGIN:VTIMEZONE
TZID:Europe/Berlin
BEGIN:DAYLIGHT
TZOFFSETFROM:+0100
TZOFFSETTO:+0200
TZNAME:CEST
DTSTART:20190331T010000
END:DAYLIGHT
BEGIN:STANDARD
TZOFFSETFROM:+0200
TZOFFSETTO:+0100
TZNAME:CET
DTSTART:20191027T010000
END:STANDARD
BEGIN:DAYLIGHT
TZOFFSETFROM:+0100
TZOFFSETTO:+0200
TZNAME:CEST
DTSTART:20200329T010000
END:DAYLIGHT
BEGIN:STANDARD
TZOFFSETFROM:+0200
TZOFFSETTO:+0100
TZNAME:CET
DTSTART:20201025T010000
END:STANDARD
BEGIN:DAYLIGHT
TZOFFSETFROM:+0100
TZOFFSETTO:+0200
TZNAME:CEST
DTSTART:20210328T010000
END:DAYLIGHT
BEGIN:STANDARD
TZOFFSETFROM:+0200
TZOFFSETTO:+0100
TZNAME:CET
DTSTART:20211031T010000
END:STANDARD
END:VTIMEZONE
BEGIN:VEVENT
DTSTART;TZID=Europe/Berlin:20200103T190000
DTEND;TZID=Europe/Berlin:20200103T210000
DTSTAMP:20260423T141556
CREATED:20191203T063039Z
LAST-MODIFIED:20191203T063039Z
UID:7701-1578078000-1578085200@www.weisbach.info
SUMMARY:Vorschiesstermin Dreikönigschiessen beim KKS
DESCRIPTION:
URL:https://www.weisbach.info/event/vorschiesstermin-dreikoenigschiessen-beim-kks-3
LOCATION:Schützenhaus KKS Weisbach\, Dielbacher Weg\, Waldbrunn\, 69429\, Deutschland
END:VEVENT
BEGIN:VEVENT
DTSTART;TZID=Europe/Berlin:20200105T093000
DTEND;TZID=Europe/Berlin:20200105T120000
DTSTAMP:20260423T141556
CREATED:20191203T063137Z
LAST-MODIFIED:20191203T063137Z
UID:7703-1578216600-1578225600@www.weisbach.info
SUMMARY:Vorschiesstermin Dreikönigschiessen beim KKS
DESCRIPTION:
URL:https://www.weisbach.info/event/vorschiesstermin-dreikoenigschiessen-beim-kks-4
LOCATION:Schützenhaus KKS Weisbach\, Dielbacher Weg\, Waldbrunn\, 69429\, Deutschland
END:VEVENT
BEGIN:VEVENT
DTSTART;TZID=Europe/Berlin:20200106T100000
DTEND;TZID=Europe/Berlin:20200106T160000
DTSTAMP:20260423T141556
CREATED:20191203T063426Z
LAST-MODIFIED:20191203T063650Z
UID:7705-1578304800-1578326400@www.weisbach.info
SUMMARY:Dreikönigschiessen beim KKS
DESCRIPTION:Hier alle Termine: \nFreitag\, 27.12.2019 — 19.00 UHR – 21.ooUHR \nSonntag\, 29.12.2019 — 9.30 UHR – 12.00 UHR \nFreitag\, 3.1. 2020 — 19.00 UHR – 21.00 UHR \nSonntag\, 5.1.2020 — 9.30 UHR – 12.00 UHR \nMontag\, 6.1.2020 — 10.00 UHR – 16.00 UHR \nSiegerehrung ab ca. 18.00 UHR
URL:https://www.weisbach.info/event/dreikoenigschiessen-beim-kks
LOCATION:Schützenhaus KKS Weisbach\, Dielbacher Weg\, Waldbrunn\, 69429\, Deutschland
END:VEVENT
BEGIN:VEVENT
DTSTART;TZID=Europe/Berlin:20200118T040000
DTEND;TZID=Europe/Berlin:20200118T233000
DTSTAMP:20260423T141556
CREATED:20190913T133632Z
LAST-MODIFIED:20190913T133632Z
UID:7502-1579320000-1579390200@www.weisbach.info
SUMMARY:Skiausfahrt 2020
DESCRIPTION:
URL:https://www.weisbach.info/event/skiausfahrt-2020
LOCATION:Dorfmitte\, Am Dorfbrunnen 2\, Waldbrunn\, 69429\, Deutschland
END:VEVENT
BEGIN:VEVENT
DTSTART;TZID=Europe/Berlin:20200124T170000
DTEND;TZID=Europe/Berlin:20200127T233000
DTSTAMP:20260423T141556
CREATED:20191226T093716Z
LAST-MODIFIED:20191226T093716Z
UID:7722-1579885200-1580167800@www.weisbach.info
SUMMARY:Vesperstube "Zum Alten Bullenstall" hat geöffnet
DESCRIPTION:
URL:https://www.weisbach.info/event/vesperstube-zum-alten-bullenstall-hat-geoeffnet-19
LOCATION:Ehemaliger Bullenstall Weisbach\, Mosbacher Strasse 16\, Waldbrunn\, 69429\, Deutschland
END:VEVENT
END:VCALENDAR