BEGIN:VCALENDAR
VERSION:2.0
PRODID:-//Weisbach - ECPv6.15.20//NONSGML v1.0//EN
CALSCALE:GREGORIAN
METHOD:PUBLISH
X-ORIGINAL-URL:https://www.weisbach.info
X-WR-CALDESC:Veranstaltungen für Weisbach
REFRESH-INTERVAL;VALUE=DURATION:PT1H
X-Robots-Tag:noindex
X-PUBLISHED-TTL:PT1H
BEGIN:VTIMEZONE
TZID:Europe/Berlin
BEGIN:DAYLIGHT
TZOFFSETFROM:+0100
TZOFFSETTO:+0200
TZNAME:CEST
DTSTART:20180325T010000
END:DAYLIGHT
BEGIN:STANDARD
TZOFFSETFROM:+0200
TZOFFSETTO:+0100
TZNAME:CET
DTSTART:20181028T010000
END:STANDARD
BEGIN:DAYLIGHT
TZOFFSETFROM:+0100
TZOFFSETTO:+0200
TZNAME:CEST
DTSTART:20190331T010000
END:DAYLIGHT
BEGIN:STANDARD
TZOFFSETFROM:+0200
TZOFFSETTO:+0100
TZNAME:CET
DTSTART:20191027T010000
END:STANDARD
BEGIN:DAYLIGHT
TZOFFSETFROM:+0100
TZOFFSETTO:+0200
TZNAME:CEST
DTSTART:20200329T010000
END:DAYLIGHT
BEGIN:STANDARD
TZOFFSETFROM:+0200
TZOFFSETTO:+0100
TZNAME:CET
DTSTART:20201025T010000
END:STANDARD
END:VTIMEZONE
BEGIN:VEVENT
DTSTART;TZID=Europe/Berlin:20191201T140000
DTEND;TZID=Europe/Berlin:20191201T160000
DTSTAMP:20260423T154702
CREATED:20191126T193204Z
LAST-MODIFIED:20191126T193204Z
UID:7687-1575208800-1575216000@www.weisbach.info
SUMMARY:Auswärtsspiel des SCW in Hassmersheim
DESCRIPTION:
URL:https://www.weisbach.info/event/auswaertsspiel-des-scw-in-hassmersheim-3
END:VEVENT
BEGIN:VEVENT
DTSTART;TZID=Europe/Berlin:20191206T170000
DTEND;TZID=Europe/Berlin:20191209T233000
DTSTAMP:20260423T154702
CREATED:20191120T220859Z
LAST-MODIFIED:20191121T062855Z
UID:7672-1575651600-1575934200@www.weisbach.info
SUMMARY:Vesperstube "Zum Alten Bullenstall" hat geöffnet
DESCRIPTION:
URL:https://www.weisbach.info/event/vesperstube-zum-alten-bullenstall-hat-geoeffnet-18
LOCATION:Ehemaliger Bullenstall Weisbach\, Mosbacher Strasse 16\, Waldbrunn\, 69429\, Deutschland
END:VEVENT
BEGIN:VEVENT
DTSTART;TZID=Europe/Berlin:20191208T140000
DTEND;TZID=Europe/Berlin:20191208T160000
DTSTAMP:20260423T154702
CREATED:20191126T193446Z
LAST-MODIFIED:20191208T101101Z
UID:7689-1575813600-1575820800@www.weisbach.info
SUMMARY:Auswärtsspiel des SCW in Neckarzimmern ist abgesetzt
DESCRIPTION:
URL:https://www.weisbach.info/event/auswaertsspiel-des-scw-in-neckarzimmern-2
END:VEVENT
BEGIN:VEVENT
DTSTART;VALUE=DATE:20191221
DTEND;VALUE=DATE:20191222
DTSTAMP:20260423T154702
CREATED:20191029T090359Z
LAST-MODIFIED:20191029T090359Z
UID:7621-1576886400-1576972799@www.weisbach.info
SUMMARY:Weihnachtsfeier beim SC Weisbach
DESCRIPTION:
URL:https://www.weisbach.info/event/weihnachtsfeier-beim-sc-weisbach-2
LOCATION:Sportheim Weisbach\, Robener Weg 1\, Waldbrunn\, 69429\, Deutschland
END:VEVENT
BEGIN:VEVENT
DTSTART;TZID=Europe/Berlin:20191227T190000
DTEND;TZID=Europe/Berlin:20191227T210000
DTSTAMP:20260423T154702
CREATED:20191202T185313Z
LAST-MODIFIED:20191202T185313Z
UID:7693-1577473200-1577480400@www.weisbach.info
SUMMARY:Vorschiesstermin Dreikönigschiessen beim KKS
DESCRIPTION:
URL:https://www.weisbach.info/event/vorschiesstermin-dreikoenigschiessen-beim-kks
LOCATION:Schützenhaus KKS Weisbach\, Dielbacher Weg\, Waldbrunn\, 69429\, Deutschland
END:VEVENT
BEGIN:VEVENT
DTSTART;TZID=Europe/Berlin:20191229T093000
DTEND;TZID=Europe/Berlin:20191229T120000
DTSTAMP:20260423T154702
CREATED:20191203T062931Z
LAST-MODIFIED:20191203T062931Z
UID:7698-1577611800-1577620800@www.weisbach.info
SUMMARY:Vorschiesstermin Dreikönigschiessen beim KKS
DESCRIPTION:
URL:https://www.weisbach.info/event/vorschiesstermin-dreikoenigschiessen-beim-kks-2
LOCATION:Schützenhaus KKS Weisbach\, Dielbacher Weg\, Waldbrunn\, 69429\, Deutschland
END:VEVENT
END:VCALENDAR