BEGIN:VCALENDAR
VERSION:2.0
PRODID:-//Weisbach - ECPv6.15.20//NONSGML v1.0//EN
CALSCALE:GREGORIAN
METHOD:PUBLISH
X-WR-CALNAME:Weisbach
X-ORIGINAL-URL:https://www.weisbach.info
X-WR-CALDESC:Veranstaltungen für Weisbach
REFRESH-INTERVAL;VALUE=DURATION:PT1H
X-Robots-Tag:noindex
X-PUBLISHED-TTL:PT1H
BEGIN:VTIMEZONE
TZID:Europe/Berlin
BEGIN:DAYLIGHT
TZOFFSETFROM:+0100
TZOFFSETTO:+0200
TZNAME:CEST
DTSTART:20180325T010000
END:DAYLIGHT
BEGIN:STANDARD
TZOFFSETFROM:+0200
TZOFFSETTO:+0100
TZNAME:CET
DTSTART:20181028T010000
END:STANDARD
BEGIN:DAYLIGHT
TZOFFSETFROM:+0100
TZOFFSETTO:+0200
TZNAME:CEST
DTSTART:20190331T010000
END:DAYLIGHT
BEGIN:STANDARD
TZOFFSETFROM:+0200
TZOFFSETTO:+0100
TZNAME:CET
DTSTART:20191027T010000
END:STANDARD
BEGIN:DAYLIGHT
TZOFFSETFROM:+0100
TZOFFSETTO:+0200
TZNAME:CEST
DTSTART:20200329T010000
END:DAYLIGHT
BEGIN:STANDARD
TZOFFSETFROM:+0200
TZOFFSETTO:+0100
TZNAME:CET
DTSTART:20201025T010000
END:STANDARD
END:VTIMEZONE
BEGIN:VEVENT
DTSTART;TZID=Europe/Berlin:20190713T090000
DTEND;TZID=Europe/Berlin:20190713T130000
DTSTAMP:20260425T141309
CREATED:20190703T181315Z
LAST-MODIFIED:20190703T181315Z
UID:7347-1563008400-1563022800@www.weisbach.info
SUMMARY:Aufbau Brunnenfest
DESCRIPTION:Auf – und Abbauarbeiten zum Brunnenfest Weisbach \nMit den Aufbauarbeiten der Stände zum 36. Brunnenfest wird am Samstag\, 13. Juli ab 9.00 Uhr\, \nDienstag\, 16. Juli\, Donnerstag\, 18. Juli und Freitag 19. Juli 2019\, jeweils ab 18.00 Uhr begonnen. \nSamstag 20. Juli 2019 Beginn um 8.00 Uhr  \nDie Aufräumarbeiten am Dienstag\, 23. Juli 2019\, ab 8.00 Uhr\,  \nund Abbau der Stände ab 17.00 Uhr. \nDie Verantwortlichen würden sich freuen\, wenn sich viele Helfer am Brunnenplatz einfinden würden und bedanken sich vorab schon herzlich!
URL:https://www.weisbach.info/event/aufbau-brunnenfest
LOCATION:Dorfmitte\, Am Dorfbrunnen 2\, Waldbrunn\, 69429\, Deutschland
END:VEVENT
BEGIN:VEVENT
DTSTART;TZID=Europe/Berlin:20190716T180000
DTEND;TZID=Europe/Berlin:20190716T210000
DTSTAMP:20260425T141309
CREATED:20190703T181447Z
LAST-MODIFIED:20190703T181447Z
UID:7350-1563300000-1563310800@www.weisbach.info
SUMMARY:Aufbau Brunnenfest
DESCRIPTION:Auf – und Abbauarbeiten zum Brunnenfest Weisbach \nMit den Aufbauarbeiten der Stände zum 36. Brunnenfest wird am Samstag\, 13. Juli ab 9.00 Uhr\, \nDienstag\, 16. Juli\, Donnerstag\, 18. Juli und Freitag 19. Juli 2019\, jeweils ab 18.00 Uhr begonnen. \nSamstag 20. Juli 2019 Beginn um 8.00 Uhr  \nDie Aufräumarbeiten am Dienstag\, 23. Juli 2019\, ab 8.00 Uhr\,  \nund Abbau der Stände ab 17.00 Uhr. \nDie Verantwortlichen würden sich freuen\, wenn sich viele Helfer am Brunnenplatz einfinden würden und bedanken sich vorab schon herzlich!
URL:https://www.weisbach.info/event/aufbau-brunnenfest-2
LOCATION:Dorfmitte\, Am Dorfbrunnen 2\, Waldbrunn\, 69429\, Deutschland
END:VEVENT
BEGIN:VEVENT
DTSTART;TZID=Europe/Berlin:20190718T180000
DTEND;TZID=Europe/Berlin:20190718T210000
DTSTAMP:20260425T141309
CREATED:20190703T181554Z
LAST-MODIFIED:20190703T181554Z
UID:7352-1563472800-1563483600@www.weisbach.info
SUMMARY:Aufbau Brunnenfest
DESCRIPTION:Auf – und Abbauarbeiten zum Brunnenfest Weisbach \nMit den Aufbauarbeiten der Stände zum 36. Brunnenfest wird am Samstag\, 13. Juli ab 9.00 Uhr\, \nDienstag\, 16. Juli\, Donnerstag\, 18. Juli und Freitag 19. Juli 2019\, jeweils ab 18.00 Uhr begonnen. \nSamstag 20. Juli 2019 Beginn um 8.00 Uhr  \nDie Aufräumarbeiten am Dienstag\, 23. Juli 2019\, ab 8.00 Uhr\,  \nund Abbau der Stände ab 17.00 Uhr. \nDie Verantwortlichen würden sich freuen\, wenn sich viele Helfer am Brunnenplatz einfinden würden und bedanken sich vorab schon herzlich!
URL:https://www.weisbach.info/event/aufbau-brunnenfest-3
LOCATION:Dorfmitte\, Am Dorfbrunnen 2\, Waldbrunn\, 69429\, Deutschland
END:VEVENT
BEGIN:VEVENT
DTSTART;TZID=Europe/Berlin:20190719T180000
DTEND;TZID=Europe/Berlin:20190719T210000
DTSTAMP:20260425T141309
CREATED:20190703T181712Z
LAST-MODIFIED:20190703T181712Z
UID:7354-1563559200-1563570000@www.weisbach.info
SUMMARY:Aufbau Brunnenfest
DESCRIPTION:Auf – und Abbauarbeiten zum Brunnenfest Weisbach \nMit den Aufbauarbeiten der Stände zum 36. Brunnenfest wird am Samstag\, 13. Juli ab 9.00 Uhr\, \nDienstag\, 16. Juli\, Donnerstag\, 18. Juli und Freitag 19. Juli 2019\, jeweils ab 18.00 Uhr begonnen. \nSamstag 20. Juli 2019 Beginn um 8.00 Uhr  \nDie Aufräumarbeiten am Dienstag\, 23. Juli 2019\, ab 8.00 Uhr\,  \nund Abbau der Stände ab 17.00 Uhr. \nDie Verantwortlichen würden sich freuen\, wenn sich viele Helfer am Brunnenplatz einfinden würden und bedanken sich vorab schon herzlich!
URL:https://www.weisbach.info/event/aufbau-brunnenfest-4
LOCATION:Dorfmitte\, Am Dorfbrunnen 2\, Waldbrunn\, 69429\, Deutschland
END:VEVENT
BEGIN:VEVENT
DTSTART;TZID=Europe/Berlin:20190720T080000
DTEND;TZID=Europe/Berlin:20190720T140000
DTSTAMP:20260425T141309
CREATED:20190703T181835Z
LAST-MODIFIED:20190703T181835Z
UID:7356-1563609600-1563631200@www.weisbach.info
SUMMARY:Aufbau Brunnenfest
DESCRIPTION:Auf – und Abbauarbeiten zum Brunnenfest Weisbach \nMit den Aufbauarbeiten der Stände zum 36. Brunnenfest wird am Samstag\, 13. Juli ab 9.00 Uhr\, \nDienstag\, 16. Juli\, Donnerstag\, 18. Juli und Freitag 19. Juli 2019\, jeweils ab 18.00 Uhr begonnen. \nSamstag 20. Juli 2019 Beginn um 8.00 Uhr  \nDie Aufräumarbeiten am Dienstag\, 23. Juli 2019\, ab 8.00 Uhr\,  \nund Abbau der Stände ab 17.00 Uhr. \nDie Verantwortlichen würden sich freuen\, wenn sich viele Helfer am Brunnenplatz einfinden würden und bedanken sich vorab schon herzlich!
URL:https://www.weisbach.info/event/aufbau-brunnenfest-5
LOCATION:Dorfmitte\, Am Dorfbrunnen 2\, Waldbrunn\, 69429\, Deutschland
END:VEVENT
BEGIN:VEVENT
DTSTART;TZID=Europe/Berlin:20190720T180000
DTEND;TZID=Europe/Berlin:20190722T235900
DTSTAMP:20260425T141309
CREATED:20190319T114804Z
LAST-MODIFIED:20190711T183018Z
UID:7206-1563645600-1563839940@www.weisbach.info
SUMMARY:Brunnenfest
DESCRIPTION:
URL:https://www.weisbach.info/event/brunnenfest
LOCATION:Dorfmitte\, Am Dorfbrunnen 2\, Waldbrunn\, 69429\, Deutschland
END:VEVENT
BEGIN:VEVENT
DTSTART;VALUE=DATE:20190723
DTEND;VALUE=DATE:20190724
DTSTAMP:20260425T141309
CREATED:20190703T182005Z
LAST-MODIFIED:20190703T182005Z
UID:7358-1563840000-1563926399@www.weisbach.info
SUMMARY:Abbau Brunnenfest
DESCRIPTION:Auf – und Abbauarbeiten zum Brunnenfest Weisbach \nMit den Aufbauarbeiten der Stände zum 36. Brunnenfest wird am Samstag\, 13. Juli ab 9.00 Uhr\, \nDienstag\, 16. Juli\, Donnerstag\, 18. Juli und Freitag 19. Juli 2019\, jeweils ab 18.00 Uhr begonnen. \nSamstag 20. Juli 2019 Beginn um 8.00 Uhr  \nDie Aufräumarbeiten am Dienstag\, 23. Juli 2019\, ab 8.00 Uhr\,  \nund Abbau der Stände ab 17.00 Uhr. \nDie Verantwortlichen würden sich freuen\, wenn sich viele Helfer am Brunnenplatz einfinden würden und bedanken sich vorab schon herzlich!
URL:https://www.weisbach.info/event/abbau-brunnenfest-2
LOCATION:Dorfmitte\, Am Dorfbrunnen 2\, Waldbrunn\, 69429\, Deutschland
END:VEVENT
BEGIN:VEVENT
DTSTART;TZID=Europe/Berlin:20190724T190000
DTEND;TZID=Europe/Berlin:20190724T210000
DTSTAMP:20260425T141309
CREATED:20190724T044114Z
LAST-MODIFIED:20190724T044114Z
UID:7389-1563994800-1564002000@www.weisbach.info
SUMMARY:Testspiel des SCW gegen Lobbach
DESCRIPTION:
URL:https://www.weisbach.info/event/testspiel-des-scw-gegen-lobbach
LOCATION:Sportheim Weisbach\, Robener Weg 1\, Waldbrunn\, 69429\, Deutschland
END:VEVENT
END:VCALENDAR