BEGIN:VCALENDAR
VERSION:2.0
PRODID:-//Weisbach - ECPv6.15.20//NONSGML v1.0//EN
CALSCALE:GREGORIAN
METHOD:PUBLISH
X-ORIGINAL-URL:https://www.weisbach.info
X-WR-CALDESC:Veranstaltungen für Weisbach
REFRESH-INTERVAL;VALUE=DURATION:PT1H
X-Robots-Tag:noindex
X-PUBLISHED-TTL:PT1H
BEGIN:VTIMEZONE
TZID:Europe/Berlin
BEGIN:DAYLIGHT
TZOFFSETFROM:+0100
TZOFFSETTO:+0200
TZNAME:CEST
DTSTART:20240331T010000
END:DAYLIGHT
BEGIN:STANDARD
TZOFFSETFROM:+0200
TZOFFSETTO:+0100
TZNAME:CET
DTSTART:20241027T010000
END:STANDARD
BEGIN:DAYLIGHT
TZOFFSETFROM:+0100
TZOFFSETTO:+0200
TZNAME:CEST
DTSTART:20250330T010000
END:DAYLIGHT
BEGIN:STANDARD
TZOFFSETFROM:+0200
TZOFFSETTO:+0100
TZNAME:CET
DTSTART:20251026T010000
END:STANDARD
BEGIN:DAYLIGHT
TZOFFSETFROM:+0100
TZOFFSETTO:+0200
TZNAME:CEST
DTSTART:20260329T010000
END:DAYLIGHT
BEGIN:STANDARD
TZOFFSETFROM:+0200
TZOFFSETTO:+0100
TZNAME:CET
DTSTART:20261025T010000
END:STANDARD
END:VTIMEZONE
BEGIN:VEVENT
DTSTART;TZID=Europe/Berlin:20250106T100000
DTEND;TZID=Europe/Berlin:20250106T220000
DTSTAMP:20260419T200826
CREATED:20241124T195510Z
LAST-MODIFIED:20241124T195510Z
UID:10244-1736157600-1736200800@www.weisbach.info
SUMMARY:Dreikönigschiessen beim KKS Weisbach
DESCRIPTION:Vorschiesstermine: \nMittwoch\, 18\,12\,2024 —19.00 Uhr – 21.30 Uhr\nFreitag\, 27.12.24 —- 19.00 Uhr – 21.30 Uhr\nFreitag\, 3.1.25 — 19.00 Uhr – 21.30 Uhr \nSchiessbetrieb am 6.1.2025 ist von 10 Uhr bis 16 Uhr\nSiegerehrung ca.18.00 /18.30 Uhr
URL:https://www.weisbach.info/event/dreikoenigschiessen-beim-kks-weisbach-2
LOCATION:Schützenhaus KKS Weisbach\, Dielbacher Weg\, Waldbrunn\, 69429\, Deutschland
END:VEVENT
END:VCALENDAR