BEGIN:VCALENDAR
VERSION:2.0
PRODID:-//Weisbach - ECPv6.15.20//NONSGML v1.0//EN
CALSCALE:GREGORIAN
METHOD:PUBLISH
X-WR-CALNAME:Weisbach
X-ORIGINAL-URL:https://www.weisbach.info
X-WR-CALDESC:Veranstaltungen für Weisbach
REFRESH-INTERVAL;VALUE=DURATION:PT1H
X-Robots-Tag:noindex
X-PUBLISHED-TTL:PT1H
BEGIN:VTIMEZONE
TZID:Europe/Berlin
BEGIN:DAYLIGHT
TZOFFSETFROM:+0100
TZOFFSETTO:+0200
TZNAME:CEST
DTSTART:20230326T010000
END:DAYLIGHT
BEGIN:STANDARD
TZOFFSETFROM:+0200
TZOFFSETTO:+0100
TZNAME:CET
DTSTART:20231029T010000
END:STANDARD
BEGIN:DAYLIGHT
TZOFFSETFROM:+0100
TZOFFSETTO:+0200
TZNAME:CEST
DTSTART:20240331T010000
END:DAYLIGHT
BEGIN:STANDARD
TZOFFSETFROM:+0200
TZOFFSETTO:+0100
TZNAME:CET
DTSTART:20241027T010000
END:STANDARD
BEGIN:DAYLIGHT
TZOFFSETFROM:+0100
TZOFFSETTO:+0200
TZNAME:CEST
DTSTART:20250330T010000
END:DAYLIGHT
BEGIN:STANDARD
TZOFFSETFROM:+0200
TZOFFSETTO:+0100
TZNAME:CET
DTSTART:20251026T010000
END:STANDARD
END:VTIMEZONE
BEGIN:VEVENT
DTSTART;TZID=Europe/Berlin:20240301T200000
DTEND;TZID=Europe/Berlin:20240301T220000
DTSTAMP:20260420T113438
CREATED:20240201T190236Z
LAST-MODIFIED:20240201T190236Z
UID:9835-1709323200-1709330400@www.weisbach.info
SUMMARY:Generalversammlung beim KKS Weisbach
DESCRIPTION:Die diesjährige Generalversammlung des KKS Weisbach findet\nam Freitag\, den 1. März 2024\, um 20 Uhr im Schützenhaus Weis-\nbach statt.\nWir bitten\, den Termin vorzumerken.
URL:https://www.weisbach.info/event/generalversammlung-beim-kks-weisbach-2
LOCATION:Schützenhaus KKS Weisbach\, Dielbacher Weg\, Waldbrunn\, 69429\, Deutschland
END:VEVENT
END:VCALENDAR