BEGIN:VCALENDAR
VERSION:2.0
PRODID:-//Weisbach - ECPv6.15.20//NONSGML v1.0//EN
CALSCALE:GREGORIAN
METHOD:PUBLISH
X-WR-CALNAME:Weisbach
X-ORIGINAL-URL:https://www.weisbach.info
X-WR-CALDESC:Veranstaltungen für Weisbach
REFRESH-INTERVAL;VALUE=DURATION:PT1H
X-Robots-Tag:noindex
X-PUBLISHED-TTL:PT1H
BEGIN:VTIMEZONE
TZID:Europe/Berlin
BEGIN:DAYLIGHT
TZOFFSETFROM:+0100
TZOFFSETTO:+0200
TZNAME:CEST
DTSTART:20220327T010000
END:DAYLIGHT
BEGIN:STANDARD
TZOFFSETFROM:+0200
TZOFFSETTO:+0100
TZNAME:CET
DTSTART:20221030T010000
END:STANDARD
BEGIN:DAYLIGHT
TZOFFSETFROM:+0100
TZOFFSETTO:+0200
TZNAME:CEST
DTSTART:20230326T010000
END:DAYLIGHT
BEGIN:STANDARD
TZOFFSETFROM:+0200
TZOFFSETTO:+0100
TZNAME:CET
DTSTART:20231029T010000
END:STANDARD
BEGIN:DAYLIGHT
TZOFFSETFROM:+0100
TZOFFSETTO:+0200
TZNAME:CEST
DTSTART:20240331T010000
END:DAYLIGHT
BEGIN:STANDARD
TZOFFSETFROM:+0200
TZOFFSETTO:+0100
TZNAME:CET
DTSTART:20241027T010000
END:STANDARD
END:VTIMEZONE
BEGIN:VEVENT
DTSTART;TZID=Europe/Berlin:20231008T130000
DTEND;TZID=Europe/Berlin:20231008T170000
DTSTAMP:20260420T185858
CREATED:20231007T142903Z
LAST-MODIFIED:20231007T142903Z
UID:9725-1696770000-1696784400@www.weisbach.info
SUMMARY:Odenwälder Drachenfest
DESCRIPTION:
URL:https://www.weisbach.info/event/odenwaelder-drachenfest
END:VEVENT
BEGIN:VEVENT
DTSTART;TZID=Europe/Berlin:20231008T151500
DTEND;TZID=Europe/Berlin:20231008T170000
DTSTAMP:20260420T185858
CREATED:20230803T102116Z
LAST-MODIFIED:20230803T102116Z
UID:9629-1696778100-1696784400@www.weisbach.info
SUMMARY:Spiel des SCW gegen SV Neunkirchen 2 in Schollbrunn
DESCRIPTION:
URL:https://www.weisbach.info/event/spiel-des-scw-gegen-sv-neunkirchen-2-in-schollbrunn
LOCATION:Sportplatz Schollbrunn\, Kopprain\, Waldbrunn\, 69429
END:VEVENT
END:VCALENDAR