BEGIN:VCALENDAR
VERSION:2.0
PRODID:-//Weisbach - ECPv6.15.20//NONSGML v1.0//EN
CALSCALE:GREGORIAN
METHOD:PUBLISH
X-ORIGINAL-URL:https://www.weisbach.info
X-WR-CALDESC:Veranstaltungen für Weisbach
REFRESH-INTERVAL;VALUE=DURATION:PT1H
X-Robots-Tag:noindex
X-PUBLISHED-TTL:PT1H
BEGIN:VTIMEZONE
TZID:Europe/Berlin
BEGIN:DAYLIGHT
TZOFFSETFROM:+0100
TZOFFSETTO:+0200
TZNAME:CEST
DTSTART:20220327T010000
END:DAYLIGHT
BEGIN:STANDARD
TZOFFSETFROM:+0200
TZOFFSETTO:+0100
TZNAME:CET
DTSTART:20221030T010000
END:STANDARD
BEGIN:DAYLIGHT
TZOFFSETFROM:+0100
TZOFFSETTO:+0200
TZNAME:CEST
DTSTART:20230326T010000
END:DAYLIGHT
BEGIN:STANDARD
TZOFFSETFROM:+0200
TZOFFSETTO:+0100
TZNAME:CET
DTSTART:20231029T010000
END:STANDARD
BEGIN:DAYLIGHT
TZOFFSETFROM:+0100
TZOFFSETTO:+0200
TZNAME:CEST
DTSTART:20240331T010000
END:DAYLIGHT
BEGIN:STANDARD
TZOFFSETFROM:+0200
TZOFFSETTO:+0100
TZNAME:CET
DTSTART:20241027T010000
END:STANDARD
END:VTIMEZONE
BEGIN:VEVENT
DTSTART;VALUE=DATE:20230916
DTEND;VALUE=DATE:20230918
DTSTAMP:20260420T201628
CREATED:20221222T092139Z
LAST-MODIFIED:20230902T144251Z
UID:9333-1694822400-1694995199@www.weisbach.info
SUMMARY:Herbstfest Förderverein SC Weisbach
DESCRIPTION:Festprogramm Förderverein Herbstfest 2023 \nSamstag\, 16.09.2023 \nab 14:00 Uhr Bum-Ball Turnier \n\nFun-Sport-Gaudi für alle Altersklassen Mädels & Jungs\nTurniermodus (4 vs. 4) mit Preisen\nAnmeldegebühr 20 € / Team\nVoranmeldung erwünscht\, Anmeldung bei olibender67@gmail.com\n\nab 19:00 Uhr Dart-Turnier \n\nDart 501 double out\nTurniermodus (begrenzte Teilnehmer) mit Preisen\nTeilnahmegebühr 10€ / Spieler\nVoranmeldung erwünscht\, Anmeldung bei olibender67@gmail.com\n\nSpeisen\, Getränke\, Kaffee und Kuchen werden durchweg angeboten \nAbendprogramm mit Barbetrieb und DJ-Musik \n  \nSonntag\, 17.09.2023 \nab 11:00 Uhr    5. Weisbacher Vorstandsmeisterschaften im Strohgabelweitwurf \n\nMittagessen: Rinderschmorbraten mit Spätzlen\, Soße und Salat\n\n13:00 Uhr Verbandsspiel Kreisklasse B \n\nSV Schollbrunn – SV Zwingenberg\n\n15:00 Uhr Verbandsspiel Kreisklasse A \n\nSC Weisbach – SpG. Hochhausen/Hüffenhardt\n\nSpeisen\, Getränke\, Kaffee und Kuchen werden durchweg angeboten
URL:https://www.weisbach.info/event/herbstfest-foerderverein-sc-weisbach
LOCATION:Sportheim Weisbach\, Robener Weg 1\, Waldbrunn\, 69429\, Deutschland
END:VEVENT
BEGIN:VEVENT
DTSTART;TZID=Europe/Berlin:20230917T130000
DTEND;TZID=Europe/Berlin:20230917T150000
DTSTAMP:20260420T201628
CREATED:20230801T184950Z
LAST-MODIFIED:20230801T184950Z
UID:9617-1694955600-1694962800@www.weisbach.info
SUMMARY:Heimspiel SV Schollbrunn gegen SV Zwingenberg in Weisbach
DESCRIPTION:
URL:https://www.weisbach.info/event/heimspiel-sv-schollbrunn-gegen-sv-zwingenberg-in-weisbach
LOCATION:Sportheim Weisbach\, Robener Weg 1\, Waldbrunn\, 69429\, Deutschland
END:VEVENT
BEGIN:VEVENT
DTSTART;TZID=Europe/Berlin:20230917T151500
DTEND;TZID=Europe/Berlin:20230917T170000
DTSTAMP:20260420T201628
CREATED:20230801T185309Z
LAST-MODIFIED:20230801T185309Z
UID:9621-1694963700-1694970000@www.weisbach.info
SUMMARY:Heimspiel SC Weisbach gegen SpG Hochhausen in Weisbach
DESCRIPTION:
URL:https://www.weisbach.info/event/heimspiel-sc-weisbach-gegen-spg-hochhausen-in-weisbach
LOCATION:Sportheim Weisbach\, Robener Weg 1\, Waldbrunn\, 69429\, Deutschland
END:VEVENT
END:VCALENDAR