BEGIN:VCALENDAR
VERSION:2.0
PRODID:-//Weisbach - ECPv6.15.20//NONSGML v1.0//EN
CALSCALE:GREGORIAN
METHOD:PUBLISH
X-WR-CALNAME:Weisbach
X-ORIGINAL-URL:https://www.weisbach.info
X-WR-CALDESC:Veranstaltungen für Weisbach
REFRESH-INTERVAL;VALUE=DURATION:PT1H
X-Robots-Tag:noindex
X-PUBLISHED-TTL:PT1H
BEGIN:VTIMEZONE
TZID:Europe/Berlin
BEGIN:DAYLIGHT
TZOFFSETFROM:+0100
TZOFFSETTO:+0200
TZNAME:CEST
DTSTART:20210328T010000
END:DAYLIGHT
BEGIN:STANDARD
TZOFFSETFROM:+0200
TZOFFSETTO:+0100
TZNAME:CET
DTSTART:20211031T010000
END:STANDARD
BEGIN:DAYLIGHT
TZOFFSETFROM:+0100
TZOFFSETTO:+0200
TZNAME:CEST
DTSTART:20220327T010000
END:DAYLIGHT
BEGIN:STANDARD
TZOFFSETFROM:+0200
TZOFFSETTO:+0100
TZNAME:CET
DTSTART:20221030T010000
END:STANDARD
BEGIN:DAYLIGHT
TZOFFSETFROM:+0100
TZOFFSETTO:+0200
TZNAME:CEST
DTSTART:20230326T010000
END:DAYLIGHT
BEGIN:STANDARD
TZOFFSETFROM:+0200
TZOFFSETTO:+0100
TZNAME:CET
DTSTART:20231029T010000
END:STANDARD
END:VTIMEZONE
BEGIN:VEVENT
DTSTART;TZID=Europe/Berlin:20221118T193000
DTEND;TZID=Europe/Berlin:20221118T220000
DTSTAMP:20260421T110830
CREATED:20220923T194023Z
LAST-MODIFIED:20221027T095018Z
UID:9168-1668799800-1668808800@www.weisbach.info
SUMMARY:Generalversammlungen SC Weisbach
DESCRIPTION:Mitgliederversammlung Förderverein SC Weisbach e.V.Sehr geehrte Mitglieder\,hiermit laden wir zu unserer diesjährigen ordentlichen Mitglie-derversammlung ein.Datum: Freitag den 18.11.2021Ort: Sportheim in WeisbachBeginn: 19:30 UhrZu folgenden Tagesordnungspunkten wird geladen:Top 1: BegrüßungTop 2: GeschäftsberichtTop 3: KassenberichtTop 4: Bericht der KassenprüferTop 5: Entlastung der VorstandschaftTop 6: Anträge und Verschiedenes \nAnträge müssen bis zum 11.11.2022 beim 1. Vorsitzenden einge-gangen sein!Wir bitten um ein zahlreiches und pünktliches Erscheinen.Die Vorstandschaft \nMitgliederversammlung SC Weisbach e.V.Sehr geehrte Mitglieder\,hiermit laden wir zu unserer diesjährigen ordentlichen Mitglie-derversammlung ein.Datum: Freitag den 18.11.2022Ort: Sportheim in WeisbachBeginn: 20:00 UhrZu folgenden Tagesordnungspunkten wird geladen:Top 1: BegrüßungTop 2: GeschäftsberichtTop 3: SpielberichtTop 4: JugendberichtTop 5: KassenberichtTop 6: Bericht der KassenprüferTop 7: Entlastung der VorstandschaftTop 8: Neuwahlen der gesamten VorstandschaftTop 9: Anträge und Verschiedenes \nAnträge und Ergänzungen der Tagesordnung müssen bis zum11.11.2022 bei den 1. Vorsitzenden eingegangen sein!Wir bitten um ein zahlreiches und pünktliches Erscheinen.Die Vorstandschaft
URL:https://www.weisbach.info/event/generalversammlung-sc-weisbach
LOCATION:Sportheim Weisbach\, Robener Weg 1\, Waldbrunn\, 69429\, Deutschland
END:VEVENT
END:VCALENDAR