BEGIN:VCALENDAR
VERSION:2.0
PRODID:-//Weisbach - ECPv6.15.20//NONSGML v1.0//EN
CALSCALE:GREGORIAN
METHOD:PUBLISH
X-ORIGINAL-URL:https://www.weisbach.info
X-WR-CALDESC:Veranstaltungen für Weisbach
REFRESH-INTERVAL;VALUE=DURATION:PT1H
X-Robots-Tag:noindex
X-PUBLISHED-TTL:PT1H
BEGIN:VTIMEZONE
TZID:Europe/Berlin
BEGIN:DAYLIGHT
TZOFFSETFROM:+0100
TZOFFSETTO:+0200
TZNAME:CEST
DTSTART:20210328T010000
END:DAYLIGHT
BEGIN:STANDARD
TZOFFSETFROM:+0200
TZOFFSETTO:+0100
TZNAME:CET
DTSTART:20211031T010000
END:STANDARD
BEGIN:DAYLIGHT
TZOFFSETFROM:+0100
TZOFFSETTO:+0200
TZNAME:CEST
DTSTART:20220327T010000
END:DAYLIGHT
BEGIN:STANDARD
TZOFFSETFROM:+0200
TZOFFSETTO:+0100
TZNAME:CET
DTSTART:20221030T010000
END:STANDARD
BEGIN:DAYLIGHT
TZOFFSETFROM:+0100
TZOFFSETTO:+0200
TZNAME:CEST
DTSTART:20230326T010000
END:DAYLIGHT
BEGIN:STANDARD
TZOFFSETFROM:+0200
TZOFFSETTO:+0100
TZNAME:CET
DTSTART:20231029T010000
END:STANDARD
END:VTIMEZONE
BEGIN:VEVENT
DTSTART;TZID=Europe/Berlin:20221104T170000
DTEND;TZID=Europe/Berlin:20221107T230000
DTSTAMP:20260421T111024
CREATED:20221020T051128Z
LAST-MODIFIED:20221020T051129Z
UID:9219-1667581200-1667862000@www.weisbach.info
SUMMARY:Vesperstube "Zum Alten Bullenstall" hat geöffnet
DESCRIPTION:
URL:https://www.weisbach.info/event/vesperstube-zum-alten-bullenstall-hat-geoeffnet-22
LOCATION:Ehemaliger Bullenstall Weisbach\, Mosbacher Strasse 16\, Waldbrunn\, 69429\, Deutschland
END:VEVENT
END:VCALENDAR