BEGIN:VCALENDAR
VERSION:2.0
PRODID:-//Weisbach - ECPv6.15.20//NONSGML v1.0//EN
CALSCALE:GREGORIAN
METHOD:PUBLISH
X-WR-CALNAME:Weisbach
X-ORIGINAL-URL:https://www.weisbach.info
X-WR-CALDESC:Veranstaltungen für Weisbach
REFRESH-INTERVAL;VALUE=DURATION:PT1H
X-Robots-Tag:noindex
X-PUBLISHED-TTL:PT1H
BEGIN:VTIMEZONE
TZID:Europe/Berlin
BEGIN:DAYLIGHT
TZOFFSETFROM:+0100
TZOFFSETTO:+0200
TZNAME:CEST
DTSTART:20210328T010000
END:DAYLIGHT
BEGIN:STANDARD
TZOFFSETFROM:+0200
TZOFFSETTO:+0100
TZNAME:CET
DTSTART:20211031T010000
END:STANDARD
BEGIN:DAYLIGHT
TZOFFSETFROM:+0100
TZOFFSETTO:+0200
TZNAME:CEST
DTSTART:20220327T010000
END:DAYLIGHT
BEGIN:STANDARD
TZOFFSETFROM:+0200
TZOFFSETTO:+0100
TZNAME:CET
DTSTART:20221030T010000
END:STANDARD
BEGIN:DAYLIGHT
TZOFFSETFROM:+0100
TZOFFSETTO:+0200
TZNAME:CEST
DTSTART:20230326T010000
END:DAYLIGHT
BEGIN:STANDARD
TZOFFSETFROM:+0200
TZOFFSETTO:+0100
TZNAME:CET
DTSTART:20231029T010000
END:STANDARD
END:VTIMEZONE
BEGIN:VEVENT
DTSTART;TZID=Europe/Berlin:20220731T170000
DTEND;TZID=Europe/Berlin:20220731T190000
DTSTAMP:20260421T164935
CREATED:20220725T071356Z
LAST-MODIFIED:20220728T162952Z
UID:9051-1659286800-1659294000@www.weisbach.info
SUMMARY:Pokalspiel des SCW gegen Obrigheim ist abgesetzt
DESCRIPTION:
URL:https://www.weisbach.info/event/pokalspiel-des-scw-gegen-obrigheim
LOCATION:Sportheim Weisbach\, Robener Weg 1\, Waldbrunn\, 69429\, Deutschland
END:VEVENT
BEGIN:VEVENT
DTSTART;TZID=Europe/Berlin:20220731T173000
DTEND;TZID=Europe/Berlin:20220731T210000
DTSTAMP:20260421T164935
CREATED:20220729T121724Z
LAST-MODIFIED:20220729T121724Z
UID:9069-1659288600-1659301200@www.weisbach.info
SUMMARY:Public Viewing - Damen Fussball EM Finale - im Sportheim
DESCRIPTION:SCW-Public Viewing\nDas Damen-Fußball-EM-Finale Deutschland – England übertragen wir auf der\nGroßleinwand im Sportheim. \nSportheim ist am Sonntag ab 17:30 geöffnet.\nKaltgetränke sind ausreichend vorhanden.
URL:https://www.weisbach.info/event/public-viewing-damen-fussball-em-finale-im-sportheim
LOCATION:Sportheim Weisbach\, Robener Weg 1\, Waldbrunn\, 69429\, Deutschland
END:VEVENT
END:VCALENDAR