BEGIN:VCALENDAR
VERSION:2.0
PRODID:-//Weisbach - ECPv6.15.20//NONSGML v1.0//EN
CALSCALE:GREGORIAN
METHOD:PUBLISH
X-WR-CALNAME:Weisbach
X-ORIGINAL-URL:https://www.weisbach.info
X-WR-CALDESC:Veranstaltungen für Weisbach
REFRESH-INTERVAL;VALUE=DURATION:PT1H
X-Robots-Tag:noindex
X-PUBLISHED-TTL:PT1H
BEGIN:VTIMEZONE
TZID:Europe/Berlin
BEGIN:DAYLIGHT
TZOFFSETFROM:+0100
TZOFFSETTO:+0200
TZNAME:CEST
DTSTART:20210328T010000
END:DAYLIGHT
BEGIN:STANDARD
TZOFFSETFROM:+0200
TZOFFSETTO:+0100
TZNAME:CET
DTSTART:20211031T010000
END:STANDARD
BEGIN:DAYLIGHT
TZOFFSETFROM:+0100
TZOFFSETTO:+0200
TZNAME:CEST
DTSTART:20220327T010000
END:DAYLIGHT
BEGIN:STANDARD
TZOFFSETFROM:+0200
TZOFFSETTO:+0100
TZNAME:CET
DTSTART:20221030T010000
END:STANDARD
BEGIN:DAYLIGHT
TZOFFSETFROM:+0100
TZOFFSETTO:+0200
TZNAME:CEST
DTSTART:20230326T010000
END:DAYLIGHT
BEGIN:STANDARD
TZOFFSETFROM:+0200
TZOFFSETTO:+0100
TZNAME:CET
DTSTART:20231029T010000
END:STANDARD
END:VTIMEZONE
BEGIN:VEVENT
DTSTART;TZID=Europe/Berlin:20220708T170000
DTEND;TZID=Europe/Berlin:20220716T090000
DTSTAMP:20260421T164910
CREATED:20220621T110956Z
LAST-MODIFIED:20220621T110956Z
UID:9029-1657299600-1657962000@www.weisbach.info
SUMMARY:Aufbau Brunnenfest
DESCRIPTION:Aufbau Brunnenfest Weisbach \nFreitag\, 08.07.2022 ab 17.00 Uhr Abholung der Stände \nSamstag\, 09.07.2022 ab 09.00 Uhr Aufbau der Stände \nDienstag\, 12.07.2022 ab 17.30 Uhr Zeltaufbau und weiteres \nDonnerstag\, 14.07.2022 ab 17.30 Uhr Aufbau \nFreitag\, 15.07.2022 ab 17.30 Uhr Aufbau + Einrichten \nSamstag\, 16.07.2022 ab 09.00 Uhr Aufbau + Einrichten \n  \nUm Zahlreiche Mithilfe wird gebeten. \nDas Organisationsteam \n 
URL:https://www.weisbach.info/event/aufbau-brunnenfest-6
LOCATION:Dorfmitte\, Am Dorfbrunnen 2\, Waldbrunn\, 69429\, Deutschland
END:VEVENT
END:VCALENDAR