BEGIN:VCALENDAR
VERSION:2.0
PRODID:-//Weisbach - ECPv6.15.20//NONSGML v1.0//EN
CALSCALE:GREGORIAN
METHOD:PUBLISH
X-WR-CALNAME:Weisbach
X-ORIGINAL-URL:https://www.weisbach.info
X-WR-CALDESC:Veranstaltungen für Weisbach
REFRESH-INTERVAL;VALUE=DURATION:PT1H
X-Robots-Tag:noindex
X-PUBLISHED-TTL:PT1H
BEGIN:VTIMEZONE
TZID:Europe/Berlin
BEGIN:DAYLIGHT
TZOFFSETFROM:+0100
TZOFFSETTO:+0200
TZNAME:CEST
DTSTART:20210328T010000
END:DAYLIGHT
BEGIN:STANDARD
TZOFFSETFROM:+0200
TZOFFSETTO:+0100
TZNAME:CET
DTSTART:20211031T010000
END:STANDARD
BEGIN:DAYLIGHT
TZOFFSETFROM:+0100
TZOFFSETTO:+0200
TZNAME:CEST
DTSTART:20220327T010000
END:DAYLIGHT
BEGIN:STANDARD
TZOFFSETFROM:+0200
TZOFFSETTO:+0100
TZNAME:CET
DTSTART:20221030T010000
END:STANDARD
BEGIN:DAYLIGHT
TZOFFSETFROM:+0100
TZOFFSETTO:+0200
TZNAME:CEST
DTSTART:20230326T010000
END:DAYLIGHT
BEGIN:STANDARD
TZOFFSETFROM:+0200
TZOFFSETTO:+0100
TZNAME:CET
DTSTART:20231029T010000
END:STANDARD
END:VTIMEZONE
BEGIN:VEVENT
DTSTART;VALUE=DATE:20220623
DTEND;VALUE=DATE:20220627
DTSTAMP:20260421T181417
CREATED:20210419T065037Z
LAST-MODIFIED:20220609T114111Z
UID:8541-1655942400-1656287999@www.weisbach.info
SUMMARY:Vereinsausflug des SC Weisbach
DESCRIPTION:Vereinsausflug  \nins Ötztal / Österreich \nWie ihr schon wisst\, mussten wir leider den Vereinsausflug auf das \nJahr 2022 verschieben. \nIn folgendem der Termin sofern es die Corona-Situation natürlich zu lässt: \nAbfahrt: Do. 23.06.2022 gegen 04:00 in Weisbach \nRückfahrt: So. 26.06.2022 gegen 11:00/12:00 nach Weisbach \nUnterkunft: Hotel 3 Mohren in Oetz inkl. Frühstück  \nDer Preis für die Hin- und Rückfahrt mit dem Bus und die Unterkunft mit Frühstück liegt bei voraussichtlich 250 €. \nUm erneut planen zu können\, bitte ich euch mir ggf. bis zum 30.06.2021 absagen mitzuteilen. \nAnmeldungen sind bis zum 31.10.2021 willkommen. \nWeitere Informationen und Anmeldung bei Daniel Haas (Tel. 0151 26906976 – danielhaas87@googlemail.com)
URL:https://www.weisbach.info/event/vereinsausflug-des-sc-weisbach
END:VEVENT
END:VCALENDAR