BEGIN:VCALENDAR
VERSION:2.0
PRODID:-//Weisbach - ECPv6.15.20//NONSGML v1.0//EN
CALSCALE:GREGORIAN
METHOD:PUBLISH
X-ORIGINAL-URL:https://www.weisbach.info
X-WR-CALDESC:Veranstaltungen für Weisbach
REFRESH-INTERVAL;VALUE=DURATION:PT1H
X-Robots-Tag:noindex
X-PUBLISHED-TTL:PT1H
BEGIN:VTIMEZONE
TZID:Europe/Berlin
BEGIN:DAYLIGHT
TZOFFSETFROM:+0100
TZOFFSETTO:+0200
TZNAME:CEST
DTSTART:20210328T010000
END:DAYLIGHT
BEGIN:STANDARD
TZOFFSETFROM:+0200
TZOFFSETTO:+0100
TZNAME:CET
DTSTART:20211031T010000
END:STANDARD
BEGIN:DAYLIGHT
TZOFFSETFROM:+0100
TZOFFSETTO:+0200
TZNAME:CEST
DTSTART:20220327T010000
END:DAYLIGHT
BEGIN:STANDARD
TZOFFSETFROM:+0200
TZOFFSETTO:+0100
TZNAME:CET
DTSTART:20221030T010000
END:STANDARD
BEGIN:DAYLIGHT
TZOFFSETFROM:+0100
TZOFFSETTO:+0200
TZNAME:CEST
DTSTART:20230326T010000
END:DAYLIGHT
BEGIN:STANDARD
TZOFFSETFROM:+0200
TZOFFSETTO:+0100
TZNAME:CET
DTSTART:20231029T010000
END:STANDARD
END:VTIMEZONE
BEGIN:VEVENT
DTSTART;TZID=Europe/Berlin:20220512T190000
DTEND;TZID=Europe/Berlin:20220512T210000
DTSTAMP:20260421T194358
CREATED:20220427T182729Z
LAST-MODIFIED:20220502T124340Z
UID:8968-1652382000-1652389200@www.weisbach.info
SUMMARY:Vorstellung Kooperationsvereinbarung SV Schollbrunn - SC Weisbach
DESCRIPTION:Liebe Vereinsmitglieder\,\nin der letzten Generalversammlung wurde über die Aufnahme unverbindlicher\nGespräche mit dem SV Schollbrunn zur Gründung einer Kooperation berichtet.\nGerne möchten wir nun über den aktuellen Stand der Kooperationsvereinbarung\ninformieren.\nWir laden hierzu alle Mitglieder zu einer Informationsveranstaltung am\nDonnerstag\, den 12. Mai 2022 um 19:00 Uhr ins Sportheim ein.\nVorstandschaft SC Weisbach
URL:https://www.weisbach.info/event/vorstellung-kooperationsvereinbarung-scw-svs
LOCATION:Sportheim Weisbach\, Robener Weg 1\, Waldbrunn\, 69429\, Deutschland
END:VEVENT
END:VCALENDAR