BEGIN:VCALENDAR
VERSION:2.0
PRODID:-//Weisbach - ECPv6.15.20//NONSGML v1.0//EN
CALSCALE:GREGORIAN
METHOD:PUBLISH
X-ORIGINAL-URL:https://www.weisbach.info
X-WR-CALDESC:Veranstaltungen für Weisbach
REFRESH-INTERVAL;VALUE=DURATION:PT1H
X-Robots-Tag:noindex
X-PUBLISHED-TTL:PT1H
BEGIN:VTIMEZONE
TZID:Europe/Berlin
BEGIN:DAYLIGHT
TZOFFSETFROM:+0100
TZOFFSETTO:+0200
TZNAME:CEST
DTSTART:20210328T010000
END:DAYLIGHT
BEGIN:STANDARD
TZOFFSETFROM:+0200
TZOFFSETTO:+0100
TZNAME:CET
DTSTART:20211031T010000
END:STANDARD
BEGIN:DAYLIGHT
TZOFFSETFROM:+0100
TZOFFSETTO:+0200
TZNAME:CEST
DTSTART:20220327T010000
END:DAYLIGHT
BEGIN:STANDARD
TZOFFSETFROM:+0200
TZOFFSETTO:+0100
TZNAME:CET
DTSTART:20221030T010000
END:STANDARD
BEGIN:DAYLIGHT
TZOFFSETFROM:+0100
TZOFFSETTO:+0200
TZNAME:CEST
DTSTART:20230326T010000
END:DAYLIGHT
BEGIN:STANDARD
TZOFFSETFROM:+0200
TZOFFSETTO:+0100
TZNAME:CET
DTSTART:20231029T010000
END:STANDARD
END:VTIMEZONE
BEGIN:VEVENT
DTSTART;VALUE=DATE:20220408
DTEND;VALUE=DATE:20220426
DTSTAMP:20260421T212315
CREATED:20220414T114511Z
LAST-MODIFIED:20220414T114511Z
UID:8922-1649376000-1650931199@www.weisbach.info
SUMMARY:Teststation bei Petra Nähr bis 25.04 geschlossen
DESCRIPTION:Teststation im Ortsteil Weisbach \nDie Teststation von Frau Petra-Kristin Nähr\, Ortsteil Weisbach\, Anden Dorfwiesen 15\, ist in der Zeit vom 8. April bis 25. April 2022geschlossen.Testungen werden weiterhin an der Teststation am Friedhofim Ortsteil Strümpfelbrunn zu den bekannten Öffnungszeitendurchgeführt.
URL:https://www.weisbach.info/event/teststation-bei-petra-naehr-bis-25-04-geschlossen
END:VEVENT
END:VCALENDAR