BEGIN:VCALENDAR
VERSION:2.0
PRODID:-//Weisbach - ECPv6.15.20//NONSGML v1.0//EN
CALSCALE:GREGORIAN
METHOD:PUBLISH
X-WR-CALNAME:Weisbach
X-ORIGINAL-URL:https://www.weisbach.info
X-WR-CALDESC:Veranstaltungen für Weisbach
REFRESH-INTERVAL;VALUE=DURATION:PT1H
X-Robots-Tag:noindex
X-PUBLISHED-TTL:PT1H
BEGIN:VTIMEZONE
TZID:Europe/Berlin
BEGIN:DAYLIGHT
TZOFFSETFROM:+0100
TZOFFSETTO:+0200
TZNAME:CEST
DTSTART:20200329T010000
END:DAYLIGHT
BEGIN:STANDARD
TZOFFSETFROM:+0200
TZOFFSETTO:+0100
TZNAME:CET
DTSTART:20201025T010000
END:STANDARD
BEGIN:DAYLIGHT
TZOFFSETFROM:+0100
TZOFFSETTO:+0200
TZNAME:CEST
DTSTART:20210328T010000
END:DAYLIGHT
BEGIN:STANDARD
TZOFFSETFROM:+0200
TZOFFSETTO:+0100
TZNAME:CET
DTSTART:20211031T010000
END:STANDARD
BEGIN:DAYLIGHT
TZOFFSETFROM:+0100
TZOFFSETTO:+0200
TZNAME:CEST
DTSTART:20220327T010000
END:DAYLIGHT
BEGIN:STANDARD
TZOFFSETFROM:+0200
TZOFFSETTO:+0100
TZNAME:CET
DTSTART:20221030T010000
END:STANDARD
BEGIN:DAYLIGHT
TZOFFSETFROM:+0100
TZOFFSETTO:+0200
TZNAME:CEST
DTSTART:20230326T010000
END:DAYLIGHT
BEGIN:STANDARD
TZOFFSETFROM:+0200
TZOFFSETTO:+0100
TZNAME:CET
DTSTART:20231029T010000
END:STANDARD
END:VTIMEZONE
BEGIN:VEVENT
DTSTART;VALUE=DATE:20211203
DTEND;VALUE=DATE:20220201
DTSTAMP:20260422T015304
CREATED:20211203T165219Z
LAST-MODIFIED:20211203T165219Z
UID:8814-1638489600-1643673599@www.weisbach.info
SUMMARY:Das Sportheim des SC Weisbach ist ab sofort dauerhaft geschlossen
DESCRIPTION:
URL:https://www.weisbach.info/event/das-sportheim-des-sc-weisbach-ist-ab-sofort-dauerhaft-geschlossen
LOCATION:Sportheim Weisbach\, Robener Weg 1\, Waldbrunn\, 69429\, Deutschland
END:VEVENT
BEGIN:VEVENT
DTSTART;TZID=Europe/Berlin:20220122T103000
DTEND;TZID=Europe/Berlin:20220122T120000
DTSTAMP:20260422T015304
CREATED:20220113T170738Z
LAST-MODIFIED:20220113T170738Z
UID:8843-1642847400-1642852800@www.weisbach.info
SUMMARY:Einsammeln der Christbäume - SCW
DESCRIPTION:Einsammeln der Christbäume im Ortsteil Weisbach \n\nDer SC Weisbach sammelt die ausgedienten Christbäume am\nSamstag\, 22. Januar 2022 ein.\nAufgrund der aktuellen Corona-Situation können die Bäume\nnicht wie üblich in jeder Straße eingesammelt werden.\nDie Christbäume können daher an den folgenden Punkten abgegeben\nwerden:\nAb 10:30 Uhr: Dorfbrunnen\nAb 10:45 Uhr: Wagenweg 5\nAb 11:00 Uhr: Glascontainer\nAb 11:15 Uhr: Mühlenweg 26\nAb 11:30 Uhr: Mühlenweg 10\nAb 11:45 Uhr: Wilhelmstraße 2\nWir möchten darauf hinweisen\, dass die Bäume nur zu den angebenen\nUhrzeiten an den Punkten abgebenen werden können.\nEine frühere Abgabe ist nicht möglich!\nZusätzlich bitten wir darum bei der Abgabe die allgemeinen Hygieneregeln\nzu beachten (AHA-Formel).\nEine Box für freiweillige Spenden ist an jeder Abgabestation aufgestellt.\nEuer SCW-Team
URL:https://www.weisbach.info/event/einsammeln-der-christbaeume-scw
END:VEVENT
END:VCALENDAR