BEGIN:VCALENDAR
VERSION:2.0
PRODID:-//Weisbach - ECPv6.15.20//NONSGML v1.0//EN
CALSCALE:GREGORIAN
METHOD:PUBLISH
X-WR-CALNAME:Weisbach
X-ORIGINAL-URL:https://www.weisbach.info
X-WR-CALDESC:Veranstaltungen für Weisbach
REFRESH-INTERVAL;VALUE=DURATION:PT1H
X-Robots-Tag:noindex
X-PUBLISHED-TTL:PT1H
BEGIN:VTIMEZONE
TZID:Europe/Berlin
BEGIN:DAYLIGHT
TZOFFSETFROM:+0100
TZOFFSETTO:+0200
TZNAME:CEST
DTSTART:20200329T010000
END:DAYLIGHT
BEGIN:STANDARD
TZOFFSETFROM:+0200
TZOFFSETTO:+0100
TZNAME:CET
DTSTART:20201025T010000
END:STANDARD
BEGIN:DAYLIGHT
TZOFFSETFROM:+0100
TZOFFSETTO:+0200
TZNAME:CEST
DTSTART:20210328T010000
END:DAYLIGHT
BEGIN:STANDARD
TZOFFSETFROM:+0200
TZOFFSETTO:+0100
TZNAME:CET
DTSTART:20211031T010000
END:STANDARD
BEGIN:DAYLIGHT
TZOFFSETFROM:+0100
TZOFFSETTO:+0200
TZNAME:CEST
DTSTART:20220327T010000
END:DAYLIGHT
BEGIN:STANDARD
TZOFFSETFROM:+0200
TZOFFSETTO:+0100
TZNAME:CET
DTSTART:20221030T010000
END:STANDARD
END:VTIMEZONE
BEGIN:VEVENT
DTSTART;VALUE=DATE:20211015
DTEND;VALUE=DATE:20211016
DTSTAMP:20260422T065503
CREATED:20210730T062756Z
LAST-MODIFIED:20210930T094132Z
UID:8622-1634256000-1634342399@www.weisbach.info
SUMMARY:Generalversammlungen beim SC Weisbach und Förderverein
DESCRIPTION:Vorankündigung Mitgliederversammlung Förderverein \nDie diesjährige Mitgliederversammlung findet am 15. Oktober 2021 um 19:00 Uhr im Schulhaus in Weisbach statt. \n  \nMitgliederversammlung SC Weisbach \nLiebe Mitglieder\,unsere diesjährige Mitgliederversammlung findet am 15. Oktober 2021 um 20:00 Uhr im Schulhaus Weisbach statt. Auf der Tagesordnung stehen folgende Punkte: \n1. Begrüßung durch die Vorstände \n2. Geschäftsbericht für die Jahre 2019 und 2020 \n3. Spielbericht für die Jahre 2019 und 2020 \n4. Jugendbericht für die Jahre 2019 und 2020 \n5. Kassenbericht für 2019 \n6. Bericht der Kassenprüfer für 2019 \n7. Entlastung der Vorstandschaft für 2019 \n8. Neuwahlen der Vorstandschaft 2020–2022 \n9. Kassenbericht für 2020 \n10.Bericht der Kassenprüfer für 2020 \n11.Entlastung der Vorstandschaft für 2020 \n12.Anträge und Verschiedenes \nAnträge und Ergänzungen der Tagesordnung müssen bis eine Woche vor der Versammlung beim Vorstand (Daniel Haas) eingereicht werden. \nUm zahlreiches und pünktliches Erscheinen wird gebeten. \nDie Vorstandschaft
URL:https://www.weisbach.info/event/generalversammlung-beim-sc-weisbach-2
LOCATION:Bürgerhaus Weisbach\, Mosbacher Strasse 20\, Waldbrunn\, 69429\, Deutschland
END:VEVENT
END:VCALENDAR