BEGIN:VCALENDAR
VERSION:2.0
PRODID:-//Weisbach - ECPv6.15.20//NONSGML v1.0//EN
CALSCALE:GREGORIAN
METHOD:PUBLISH
X-WR-CALNAME:Weisbach
X-ORIGINAL-URL:https://www.weisbach.info
X-WR-CALDESC:Veranstaltungen für Weisbach
REFRESH-INTERVAL;VALUE=DURATION:PT1H
X-Robots-Tag:noindex
X-PUBLISHED-TTL:PT1H
BEGIN:VTIMEZONE
TZID:Europe/Berlin
BEGIN:DAYLIGHT
TZOFFSETFROM:+0100
TZOFFSETTO:+0200
TZNAME:CEST
DTSTART:20200329T010000
END:DAYLIGHT
BEGIN:STANDARD
TZOFFSETFROM:+0200
TZOFFSETTO:+0100
TZNAME:CET
DTSTART:20201025T010000
END:STANDARD
BEGIN:DAYLIGHT
TZOFFSETFROM:+0100
TZOFFSETTO:+0200
TZNAME:CEST
DTSTART:20210328T010000
END:DAYLIGHT
BEGIN:STANDARD
TZOFFSETFROM:+0200
TZOFFSETTO:+0100
TZNAME:CET
DTSTART:20211031T010000
END:STANDARD
BEGIN:DAYLIGHT
TZOFFSETFROM:+0100
TZOFFSETTO:+0200
TZNAME:CEST
DTSTART:20220327T010000
END:DAYLIGHT
BEGIN:STANDARD
TZOFFSETFROM:+0200
TZOFFSETTO:+0100
TZNAME:CET
DTSTART:20221030T010000
END:STANDARD
END:VTIMEZONE
BEGIN:VEVENT
DTSTART;VALUE=DATE:20210717
DTEND;VALUE=DATE:20210720
DTSTAMP:20260422T131655
CREATED:20210617T043501Z
LAST-MODIFIED:20210617T043501Z
UID:8553-1626480000-1626739199@www.weisbach.info
SUMMARY:Absage Brunnenfest 2021
DESCRIPTION:Ortschaftsrat Weisbach \nAbsage Brunnenfest Weisbach 2021 \nLiebe Bürgerinnen und Bürger\, \nwie schon in 2020 müssen wir auch in diesem Jahr unser Brunnenfest wegen Corona absagen. Dies ist uns allen schwergefallen und nun hoffen wir für 2022 wieder in die Normalität zurückzukehren. \nDer Termin ist am 16.–18. Juli 2022 in Planung. \nHeinz-Dieter Ihrig Ortsvorsteher
URL:https://www.weisbach.info/event/absage-brunnenfest-2021
LOCATION:Dorfmitte\, Am Dorfbrunnen 2\, Waldbrunn\, 69429\, Deutschland
END:VEVENT
BEGIN:VEVENT
DTSTART;TZID=Europe/Berlin:20210718T120000
DTEND;TZID=Europe/Berlin:20210718T140000
DTSTAMP:20260422T131655
CREATED:20210705T041453Z
LAST-MODIFIED:20210705T041453Z
UID:8589-1626609600-1626616800@www.weisbach.info
SUMMARY:Trainingsspiel des SCW beim FC Dossenheim
DESCRIPTION:
URL:https://www.weisbach.info/event/trainingsspiel-des-scw-beim-fc-dossenheim
END:VEVENT
BEGIN:VEVENT
DTSTART;TZID=Europe/Berlin:20210718T140000
DTEND;TZID=Europe/Berlin:20210718T160000
DTSTAMP:20260422T131655
CREATED:20210701T080600Z
LAST-MODIFIED:20210701T080600Z
UID:8574-1626616800-1626624000@www.weisbach.info
SUMMARY:Wanderung mit Dr. Strey: Weisbacher Kreuze
DESCRIPTION:Startpunkt ist der Sportplatz in Weisbach
URL:https://www.weisbach.info/event/wanderung-mit-dr-strey-weisbacher-kreuze
END:VEVENT
END:VCALENDAR