BEGIN:VCALENDAR
VERSION:2.0
PRODID:-//Weisbach - ECPv6.15.20//NONSGML v1.0//EN
CALSCALE:GREGORIAN
METHOD:PUBLISH
X-ORIGINAL-URL:https://www.weisbach.info
X-WR-CALDESC:Veranstaltungen für Weisbach
REFRESH-INTERVAL;VALUE=DURATION:PT1H
X-Robots-Tag:noindex
X-PUBLISHED-TTL:PT1H
BEGIN:VTIMEZONE
TZID:Europe/Berlin
BEGIN:DAYLIGHT
TZOFFSETFROM:+0100
TZOFFSETTO:+0200
TZNAME:CEST
DTSTART:20190331T010000
END:DAYLIGHT
BEGIN:STANDARD
TZOFFSETFROM:+0200
TZOFFSETTO:+0100
TZNAME:CET
DTSTART:20191027T010000
END:STANDARD
BEGIN:DAYLIGHT
TZOFFSETFROM:+0100
TZOFFSETTO:+0200
TZNAME:CEST
DTSTART:20200329T010000
END:DAYLIGHT
BEGIN:STANDARD
TZOFFSETFROM:+0200
TZOFFSETTO:+0100
TZNAME:CET
DTSTART:20201025T010000
END:STANDARD
BEGIN:DAYLIGHT
TZOFFSETFROM:+0100
TZOFFSETTO:+0200
TZNAME:CEST
DTSTART:20210328T010000
END:DAYLIGHT
BEGIN:STANDARD
TZOFFSETFROM:+0200
TZOFFSETTO:+0100
TZNAME:CET
DTSTART:20211031T010000
END:STANDARD
END:VTIMEZONE
BEGIN:VEVENT
DTSTART;VALUE=DATE:20201019
DTEND;VALUE=DATE:20201112
DTSTAMP:20260423T014549
CREATED:20200925T142356Z
LAST-MODIFIED:20201030T144850Z
UID:8325-1603065600-1605139199@www.weisbach.info
SUMMARY:Sperrung der L 589 von Weisbach nach Lohrbach
DESCRIPTION:
URL:https://www.weisbach.info/event/sperrung-der-l-589-von-weisbach-nach-lohrbach
END:VEVENT
BEGIN:VEVENT
DTSTART;TZID=Europe/Berlin:20201025T143000
DTEND;TZID=Europe/Berlin:20201025T163000
DTSTAMP:20260423T014549
CREATED:20201022T150158Z
LAST-MODIFIED:20201023T092156Z
UID:8351-1603636200-1603643400@www.weisbach.info
SUMMARY:Auswärtsspiel des SCW in Schwarzach
DESCRIPTION:Bitte das Hygiene Konzept des TSV Schwarzach beachten!! \nSpieler und Betreuer können oben an unserem Sportheim parken\, alle Zuschauer sind angehalten unten auf dem großen Schotterparkplatz zu parken. \nBITTE BEACHTEN: Mundschutz für Zuschauer ist seit dieser Woche verpflichtend\, wenn der Mindestabstand nicht eingehalten wird (1\,50 Meter).\nBitte um Weitergabe aller Infos im Verein. \nMit freundlichen Grüßen \nSteffen Söhner\nTSV Schwarzach \n\n\n\n\n\n\n+++ Bitte beachten – Hygienekonzept bei unseren Heimspielen +++\n\n\nHallo zusammen\,\n\n\ndurch unsere Gemeinde\, das Land und den BFV haben wir verschiedene Auflagen\, welche bei der Durchführung von Fußballspielen in Schwarzach zu beachten sind:\n– Der Zutritt zum Sportgelände erfolgt einzig über die Straße hoch zum Sportplatz (offizieller Zufahrtsweg)\n– Eingangskontrolle sowie kassieren findet direkt beim hochlaufen auf Höhe des neuen Platz statt\n– Hier möchten wir Sie bitten\, das ausliegende Formular mit ihren Kontaktdaten zu befüllen (dient der Nachvollziehbarkeit von Infektionsketten)\n– Am Eingang liegt das vom TSV Schwarzach verfasste Hygienekonzept aus zur Durchsicht\n– Spieler\, Trainer\, Funktionsteam und Schiedsrichter können wie gewohnt oben am Sportheim parken\, den Rest bitten wir unten auf dem groß angelegten Parkplatz (Schotter) zu parken\n– Zuschauer werden gebeten erst kurz vor dem Spiel am Sportgelände zu erscheinen\n– Die bekannten 1\,5 m Abstand sind auf dem Gelände einzuhalten und auch auf unseren Sitzmöglichkeiten gekennzeichnet\n– Das Sportheim ist nur für die Benutzung der Toiletten geöffnet – diese bitte nur nutzen\, während die Teams nicht im Sportheim sind\n– Der Verkauf von Lebensmittel erfolgt ausschließlich über das Fenster an der Verlaufshütte am neuen Platz – unter Einhaltung des Abstandes\n– Desinfektionsspender sind an mehreren Stellen auf dem Gelände vorhanden\n– Die geltenden Regeln für Zuschauer und Spieler hängen auch mehrfach auf unserem Gelände aus\n– Wir bitten Spieler und Zuschauer\, welche Corona – Symptome aufweisen\, zu Hause zu bleiben\n– Wir behalten uns vor\, den Einlass der Zuschauer zu unterbrechen\, wenn keine Einhaltung der vorgeschriebenen Regularien mehr sichergestellt werden kann\n\n\nWir hoffen\, dass ihr uns trotzdem unterstützt und den Spaß am Fußball nicht verliert. Um einen sicheren laufenden Spielbetrieb zu gewährleisten sind wir gezwungen alle beschriebenen Vorgaben zu erfüllen.\nWir danken euch im Voraus für die Einhaltung und die Unterstützung und freuen uns trotzdem\, das die Kugel wieder rollt.\n\n\nBis am Sonntag!\n\n\nTSV Schwarzach / Abteilung Fußball
URL:https://www.weisbach.info/event/auswaertsspiel-des-scw-in-schwarzach
END:VEVENT
END:VCALENDAR