BEGIN:VCALENDAR
VERSION:2.0
PRODID:-//Weisbach - ECPv6.15.20//NONSGML v1.0//EN
CALSCALE:GREGORIAN
METHOD:PUBLISH
X-WR-CALNAME:Weisbach
X-ORIGINAL-URL:https://www.weisbach.info
X-WR-CALDESC:Veranstaltungen für Weisbach
REFRESH-INTERVAL;VALUE=DURATION:PT1H
X-Robots-Tag:noindex
X-PUBLISHED-TTL:PT1H
BEGIN:VTIMEZONE
TZID:Europe/Berlin
BEGIN:DAYLIGHT
TZOFFSETFROM:+0100
TZOFFSETTO:+0200
TZNAME:CEST
DTSTART:20190331T010000
END:DAYLIGHT
BEGIN:STANDARD
TZOFFSETFROM:+0200
TZOFFSETTO:+0100
TZNAME:CET
DTSTART:20191027T010000
END:STANDARD
BEGIN:DAYLIGHT
TZOFFSETFROM:+0100
TZOFFSETTO:+0200
TZNAME:CEST
DTSTART:20200329T010000
END:DAYLIGHT
BEGIN:STANDARD
TZOFFSETFROM:+0200
TZOFFSETTO:+0100
TZNAME:CET
DTSTART:20201025T010000
END:STANDARD
BEGIN:DAYLIGHT
TZOFFSETFROM:+0100
TZOFFSETTO:+0200
TZNAME:CEST
DTSTART:20210328T010000
END:DAYLIGHT
BEGIN:STANDARD
TZOFFSETFROM:+0200
TZOFFSETTO:+0100
TZNAME:CET
DTSTART:20211031T010000
END:STANDARD
END:VTIMEZONE
BEGIN:VEVENT
DTSTART;TZID=Europe/Berlin:20201018T113000
DTEND;TZID=Europe/Berlin:20201018T190000
DTSTAMP:20260423T014428
CREATED:20201001T121221Z
LAST-MODIFIED:20201004T170713Z
UID:8328-1603020600-1603047600@www.weisbach.info
SUMMARY:Kerwe beim SC Weisbach
DESCRIPTION:Der SC Weisbach lässt die Kerwe-Tradition wieder aufleben und öffnet am Kerwesonntag\, den 18. Oktober 2020 zum Mittagessen das Sportheim. \nAb 11:30 Uhr gibt es einen Kerweteller mit Kassler\, Bratwurst mit Speckknödel\, Soße und Besenbrot. Das Angebot runden die Hausmacher-Bratwürste mit oder ohne Soße und Besenbrot\, Zwiebelkuchen\, Flammkuchen\, Brätbrot und Kochkäse ab. \nAufgrund der aktuellen Corona-Situation ist eine Tischreservierung im Sportheim erforderlich. \nDiese kann zwischen 7. Oktober und 15. Oktober 2020 bei Daniel Haas telefonisch unter 0151-26906976 erfolgen.Zusätzlich kann eine Abholung ab 11:15 Uhr bis 15:00 Uhr nach Vorbestellung erfolgen. \nWeiterhin wird ein Bringservice innerhalb Waldbrunn zwischen 11:30 Uhr und 13:00 Uhr angeboten. Vorbestellungen hierzu nehmen Alwin Lenz (Tel. 0173-9553908) ab 15:00 Uhr oder Daniel Haas (Tel. 0151-26906976) ab 18:00 Uhr zwischen dem 7. Oktober und 15. Oktober 2020 entgegen. \nUm 15:00 Uhr wird das Kerwespiel gegen den VfR Fahrenbach angepfiffen. \nDer SC Weisbach freut sich auf Euer Kommen.
URL:https://www.weisbach.info/event/kerwe-beim-sc-weisbach
END:VEVENT
BEGIN:VEVENT
DTSTART;TZID=Europe/Berlin:20201018T153000
DTEND;TZID=Europe/Berlin:20201018T173000
DTSTAMP:20260423T014428
CREATED:20200925T141422Z
LAST-MODIFIED:20201013T043219Z
UID:8323-1603035000-1603042200@www.weisbach.info
SUMMARY:Heimspiel des SCW gegen Fahrenbach
DESCRIPTION:
URL:https://www.weisbach.info/event/heimspiel-des-scw-gegen-fahrenbach-2
LOCATION:Sportheim Weisbach\, Robener Weg 1\, Waldbrunn\, 69429\, Deutschland
END:VEVENT
END:VCALENDAR