BEGIN:VCALENDAR
VERSION:2.0
PRODID:-//Weisbach - ECPv6.15.20//NONSGML v1.0//EN
CALSCALE:GREGORIAN
METHOD:PUBLISH
X-ORIGINAL-URL:https://www.weisbach.info
X-WR-CALDESC:Veranstaltungen für Weisbach
REFRESH-INTERVAL;VALUE=DURATION:PT1H
X-Robots-Tag:noindex
X-PUBLISHED-TTL:PT1H
BEGIN:VTIMEZONE
TZID:Europe/Berlin
BEGIN:DAYLIGHT
TZOFFSETFROM:+0100
TZOFFSETTO:+0200
TZNAME:CEST
DTSTART:20190331T010000
END:DAYLIGHT
BEGIN:STANDARD
TZOFFSETFROM:+0200
TZOFFSETTO:+0100
TZNAME:CET
DTSTART:20191027T010000
END:STANDARD
BEGIN:DAYLIGHT
TZOFFSETFROM:+0100
TZOFFSETTO:+0200
TZNAME:CEST
DTSTART:20200329T010000
END:DAYLIGHT
BEGIN:STANDARD
TZOFFSETFROM:+0200
TZOFFSETTO:+0100
TZNAME:CET
DTSTART:20201025T010000
END:STANDARD
BEGIN:DAYLIGHT
TZOFFSETFROM:+0100
TZOFFSETTO:+0200
TZNAME:CEST
DTSTART:20210328T010000
END:DAYLIGHT
BEGIN:STANDARD
TZOFFSETFROM:+0200
TZOFFSETTO:+0100
TZNAME:CET
DTSTART:20211031T010000
END:STANDARD
END:VTIMEZONE
BEGIN:VEVENT
DTSTART;TZID=Europe/Berlin:20200830T100000
DTEND;TZID=Europe/Berlin:20200830T120000
DTSTAMP:20260423T045744
CREATED:20200724T152801Z
LAST-MODIFIED:20200724T152801Z
UID:8237-1598781600-1598788800@www.weisbach.info
SUMMARY:Frühschoppen im Sportheim
DESCRIPTION:
URL:https://www.weisbach.info/event/fruehschoppen-im-sportheim-4
LOCATION:Sportheim Weisbach\, Robener Weg 1\, Waldbrunn\, 69429\, Deutschland
END:VEVENT
BEGIN:VEVENT
DTSTART;TZID=Europe/Berlin:20200830T160000
DTEND;TZID=Europe/Berlin:20200830T180000
DTSTAMP:20260423T045744
CREATED:20200727T093558Z
LAST-MODIFIED:20200828T125108Z
UID:8239-1598803200-1598810400@www.weisbach.info
SUMMARY:Heimspiel des SCW gegen Obrigheim
DESCRIPTION:Info für alle Besucher: der Sportheim- Anbau kann während des Spiels nicht als Unterstand genutzt werden. Bei schlechtem Wetter bitte entsprechende Kleidung und Regenschirm mitbringen \n 
URL:https://www.weisbach.info/event/heimspiel-des-scw-gegen-obrigheim
LOCATION:Sportheim Weisbach\, Robener Weg 1\, Waldbrunn\, 69429\, Deutschland
END:VEVENT
END:VCALENDAR