BEGIN:VCALENDAR
VERSION:2.0
PRODID:-//Weisbach - ECPv6.15.20//NONSGML v1.0//EN
CALSCALE:GREGORIAN
METHOD:PUBLISH
X-WR-CALNAME:Weisbach
X-ORIGINAL-URL:https://www.weisbach.info
X-WR-CALDESC:Veranstaltungen für Weisbach
REFRESH-INTERVAL;VALUE=DURATION:PT1H
X-Robots-Tag:noindex
X-PUBLISHED-TTL:PT1H
BEGIN:VTIMEZONE
TZID:Europe/Berlin
BEGIN:DAYLIGHT
TZOFFSETFROM:+0100
TZOFFSETTO:+0200
TZNAME:CEST
DTSTART:20180325T010000
END:DAYLIGHT
BEGIN:STANDARD
TZOFFSETFROM:+0200
TZOFFSETTO:+0100
TZNAME:CET
DTSTART:20181028T010000
END:STANDARD
BEGIN:DAYLIGHT
TZOFFSETFROM:+0100
TZOFFSETTO:+0200
TZNAME:CEST
DTSTART:20190331T010000
END:DAYLIGHT
BEGIN:STANDARD
TZOFFSETFROM:+0200
TZOFFSETTO:+0100
TZNAME:CET
DTSTART:20191027T010000
END:STANDARD
BEGIN:DAYLIGHT
TZOFFSETFROM:+0100
TZOFFSETTO:+0200
TZNAME:CEST
DTSTART:20200329T010000
END:DAYLIGHT
BEGIN:STANDARD
TZOFFSETFROM:+0200
TZOFFSETTO:+0100
TZNAME:CET
DTSTART:20201025T010000
END:STANDARD
END:VTIMEZONE
BEGIN:VEVENT
DTSTART;TZID=Europe/Berlin:20190925T190000
DTEND;TZID=Europe/Berlin:20190925T210000
DTSTAMP:20260425T122325
CREATED:20190923T094542Z
LAST-MODIFIED:20190923T094711Z
UID:7520-1569438000-1569445200@www.weisbach.info
SUMMARY:Öffentliche Ortschaftsratsitzung
DESCRIPTION:Öffentliche Sitzung des Ortschaftsrates Weisbach \nAm Mittwoch\, den 25. September 2019\, findet um 19.00 Uhr im ehemaligen Schul- und Rathaus des Ortsteils Weisbach die nächste öffentliche Sitzung des Ortschaftsrates Weisbach statt\, zu der Sie hiermit recht herzlich eingeladen werden. \nTagesordnung: \n1. Bekanntgabe des Wahlprüfungsberichtes des Kommunalamtes des Landratsamts des Neckar-Odenwald-Kreises zur Ortschaftsratswahl vom 26. Mai 2019 \n2. Feststellung von Hinderungsgründen gemäß § 29 Gemeindeordnung für die am 26. Mai 2019 neu gewählten Ortschaftsräte \n3. Verabschiedung der ausscheidenden Ortschaftsräte \n4. Verpflichtung der neu gewählten Ortschaftsräte \n5. Wahlvorschlag des Ortschaftsrats an den Gemeinderat zur Wahl des Ortsvorstehers \n6. Wahlvorschlag des Ortschaftsrats an den Gemeinderat zur Wahl des Stellvertreters des Ortsvorstehers \n7. Verschiedenes \nReinhard Kessler\, Ortsvorsteher
URL:https://www.weisbach.info/event/oeffentliche-ortschaftsratsitzung-2
LOCATION:Bürgerhaus Weisbach\, Mosbacher Strasse 20\, Waldbrunn\, 69429\, Deutschland
END:VEVENT
END:VCALENDAR